BEGIN:VCALENDAR
VERSION:2.0
CALSCALE:GREGORIAN
PRODID:https://kalender.karlsruhe.de/db/termine/
METHOD:PUBLISH
BEGIN:VEVENT
UID:580693
ORGANIZER;CN=Stadtamt Durlach & OrgelFabrik Kultur in Durlach e V.:MAILTO:
LOCATION:Alter Friedhof bei der Nikolauskapelle Durlach
SUMMARY:Durlacher Kultursommer
DESCRIPTION;ENCODING=QUOTED-PRINTABLE:Konzert - Blues for Frets=0D=0A=0D=0A  Blues for Frets f=C3=BChrt Sie auf eine Reis
 e durch die Vielfalt akustischer\, bluesorientierter Musik der =C3=A4lteren 
 und neueren Generation. Durch die Besetzung mit verschiedenen akustischen I
 nstrumenten: 6- und 12-saitige Gitarre\, Resonatorgitarre\, Mandoline\, Ukulel
 e\, Kontrabass\, Caj=C3=B3n\, Wasbbrett und Bluesharp entsteht ein vielseitige
 r Sound. Wer bei Blues ausschlie=C3=9Flich an langsame\, jammervolle Lieder 
 denkt\, ist auf dem falschen (Mississippi-)Dampfer. Viele Bluesmusiker\, vor 
 allem der Vorkriegszeit\, waren Unterhaltungsmusiker\, zu deren Musik gefeier
 t und getanzt wurde. Wir bedienen uns der ganzen Bandbreite der bluesorient
 ierten\, akustischen Musik und setzen diese originalgetreu sowie in Eigenint
 erpretationen um. =20
URL:https://kalender.karlsruhe.de/db/termine/stadtleben/durlacher_kultursommer-18
CLASS:PUBLIC
DTSTART:20260828T190000
DTEND:20260828T214500
DTSTAMP:20260409T112926
CATEGORIES:Stadtleben
ATTACH:https://kalender.karlsruhe.de/db/termine/stadtleben/durlacher_kultursommer-18/file/icon_4.1Museumsscheune.jpg
END:VEVENT

END:VCALENDAR
