BEGIN:VCALENDAR
VERSION:2.0
CALSCALE:GREGORIAN
PRODID:https://kalender.karlsruhe.de/db/termine/
METHOD:PUBLISH
BEGIN:VEVENT
UID:580694
ORGANIZER;CN=Stadtamt Durlach & OrgelFabrik Kultur in Durlach e V.:MAILTO:
LOCATION:Alter Friedhof bei der Nikolauskapelle Durlach
SUMMARY:Durlacher Kultursommer
DESCRIPTION;ENCODING=QUOTED-PRINTABLE:Konzert - The Finest=0D=0A=0D=0A  The Finest ist eine Cover-Liveband\, die mit Leide
 nschaft und Energie eine breite Palette von Musikrichtungen wie Soul\, Pop\, 
 Funk und Rock interpretiert. Mit einer einzigartigen Mischung aus melodisch
 en und groovigen Rhythmen schaffen wir eine unvergessliche Atmosph=C3=A4re.
  Lassen Sie sich von unserer Musik verzaubern und erleben Sie mit uns unver
 gessliche Momente voller Emotionen und Groove. =20
URL:https://kalender.karlsruhe.de/db/termine/stadtleben/durlacher_kultursommer-19
CLASS:PUBLIC
DTSTART:20260829T190000
DTEND:20260829T214500
DTSTAMP:20260409T112945
CATEGORIES:Stadtleben
ATTACH:https://kalender.karlsruhe.de/db/termine/stadtleben/durlacher_kultursommer-19/file/icon_-5411479289553086787_121.jpg
END:VEVENT

END:VCALENDAR
