BEGIN:VCALENDAR
VERSION:2.0
CALSCALE:GREGORIAN
PRODID:https://kalender.karlsruhe.de/db/termine/
METHOD:PUBLISH
BEGIN:VEVENT
UID:580666
ORGANIZER;CN=Stadtamt Durlach & OrgelFabrik Kultur in Durlach e V.:MAILTO:
LOCATION:Schlossgarten Durlach
SUMMARY:Durlacher Kultursommer
DESCRIPTION;ENCODING=QUOTED-PRINTABLE:Konzert - Stefan K=C3=BChnlein=0D=0A=0D=0A  Stefan K=C3=BChnlein spielt Instrumenta
 lmusik auf der Westerngitarre. F=C3=BCr seine melodiebetonte Fingerstylemus
 ik nutzt er verschieden gestimmte Gitarren und wechselt bei humorvoller Mod
 eration abwechslungsreich zwischen unterschiedlichen Stilen.    =20
URL:https://kalender.karlsruhe.de/db/termine/stadtleben/durlacher_kultursommer-2
CLASS:PUBLIC
DTSTART:20260723T190000
DTEND:20260723T214500
DTSTAMP:20260409T112501
CATEGORIES:Stadtleben
ATTACH:https://kalender.karlsruhe.de/db/termine/stadtleben/durlacher_kultursommer-2/file/icon_DSC_9456.jpg
END:VEVENT

END:VCALENDAR
