BEGIN:VCALENDAR
VERSION:2.0
CALSCALE:GREGORIAN
PRODID:https://kalender.karlsruhe.de/db/termine/
METHOD:PUBLISH
BEGIN:VEVENT
UID:580674
ORGANIZER;CN=Stadtamt Durlach & OrgelFabrik Kultur in Durlach e V.:MAILTO:
LOCATION:Schlossgarten Durlach
SUMMARY:Durlacher Kultursommer
DESCRIPTION;ENCODING=QUOTED-PRINTABLE:Konzert - =E2=80=9EDjango=E2=80=99s Tiger Jankeje & Guttenberger=E2=80=9C=0D=0A
 =0D=0A    =E2=80=9EDjango=E2=80=99s Tiger Jankeje & Guttenberger=E2=80=9C      
   =E2=80=9EKontrabass trifft Gitarre =E2=80=93 TOTAL!=E2=80=9C            M
 ano Guttenberger =E2=80=93 Sologitarre        Jan Jankeje =E2=80=93 Kontrab
 ass        Moreno Guttenberger =E2=80=93 Rhythmusgitarre        Stark inspi
 riert von Django Reinhardt erschafft das Trio =E2=80=9EDjango=E2=80=99s Tig
 er Jankeje & Guttenberger=E2=80=9C einen faszinierend authentischen Gypsy-J
 azz-Klang. Mit beeindruckender Virtuosit=C3=A4t und einem unverwechselbaren
  musikalischen Geist\, gepr=C3=A4gt von Spontaneit=C3=A4t\, Improvisationsfre
 ude und kreativem Einfallsreichtum\, gelingt es dem Ensemble\, sein Publikum 
 immer wieder aufs Neue zu begeistern. Hier entsteht Musik f=C3=BCrs Herz 
 =E2=80=93 getragen von echter Spielfreude und tiefer musikalischer Leidensc
 haft.        D      as Trio verbindet die traditionelle Spielweise des Gyps
 y-Swing mit modernen stilistischen Einfl=C3=BCssen und pr=C3=A4sentiert ein
  abwechslungsreiches Repertoire. Neben klassischem Gypsy-Jazz interpretiert
  das Ensemble auch Bossa Nova\, Walzer\, Blues und lyrische Balladen. Durch d
 as Zusammenspiel von kraftvollem Kontrabass\, expressiver Sologitarre und pr
 =C3=A4ziser Rhythmusgitarre entsteht ein dynamischer\, energiegeladener Soun
 d\, der sowohl Kenner als auch neue Zuh=C3=B6rer gleicherma=C3=9Fen=C2=A0fes
 selt. Die Band geh=C3=B6rt weltweit zu den besten ihrer Zunft!   =20
URL:https://kalender.karlsruhe.de/db/termine/stadtleben/durlacher_kultursommer-3
CLASS:PUBLIC
DTSTART:20260730T190000
DTEND:20260730T214500
DTSTAMP:20260409T112555
CATEGORIES:Stadtleben
ATTACH:https://kalender.karlsruhe.de/db/termine/stadtleben/durlacher_kultursommer-3/file/icon_Klein Django's Tiger Jankeje & Guttenberger Gypsy Projekt 2025_12_co30308_PS_Copyright_02EV_kl.jpg
END:VEVENT

END:VCALENDAR
