BEGIN:VCALENDAR
VERSION:2.0
CALSCALE:GREGORIAN
PRODID:https://kalender.karlsruhe.de/db/termine/
METHOD:PUBLISH
BEGIN:VEVENT
UID:580675
ORGANIZER;CN=Stadtamt Durlach & OrgelFabrik Kultur in Durlach e V.:MAILTO:
LOCATION:Schlossgarten Durlach
SUMMARY:Durlacher Kultursommer
DESCRIPTION;ENCODING=QUOTED-PRINTABLE:Konzert - Kontrastprogramm=0D=0A=0D=0A  Kontrastprogramm: Das ist seit nunmehr 10 J
 ahren frischer Acappella-Sound.  =0D=0A  Die 5 Jungs aus der Karlsruher Gegend 
 interpretieren alles was ihnen vor die Flinte l=C3=A4uft.  =0D=0A  Ob Pop\, Rock
 \, Rap oder traurige Ballade\, es klingt immer nach Kontrasprogramm... im war
 sten Sinne des Wortes.  =0D=0A  Auf Instrumente wird\, wie es sich f=C3=BCr eine
  Acappella-Band geh=C3=B6rt\, nat=C3=BCrlich verzichtet.  =0D=0A  Alles was zu h
 =C3=B6ren ist\, ist gesungen inklusive Beatbox.    =20
URL:https://kalender.karlsruhe.de/db/termine/stadtleben/durlacher_kultursommer-4
CLASS:PUBLIC
DTSTART:20260731T190000
DTEND:20260731T214500
DTSTAMP:20260409T112540
CATEGORIES:Stadtleben
ATTACH:https://kalender.karlsruhe.de/db/termine/stadtleben/durlacher_kultursommer-4/file/icon_BandfotoKontrastprogramm (1) (1).jpg
END:VEVENT

END:VCALENDAR
