BEGIN:VCALENDAR
VERSION:2.0
CALSCALE:GREGORIAN
PRODID:https://kalender.karlsruhe.de/db/termine/
METHOD:PUBLISH
BEGIN:VEVENT
UID:580678
ORGANIZER;CN=Stadtamt Durlach & OrgelFabrik Kultur in Durlach e V.:MAILTO:
LOCATION:Schlossgarten Durlach
SUMMARY:Durlacher Kultursommer
DESCRIPTION;ENCODING=QUOTED-PRINTABLE:Konzert - Big Band =E2=80=9Ebrandhei=C3=9F=E2=80=9C=0D=0A=0D=0A  Big Band =E2=80=9E
 brandhei=C3=9F=E2=80=9C    Direkt aus der Goldstadt mit brandhei=C3=9Fen Ti
 teln im Gep=C3=A4ck: die Big Band "brandhei=C3=9F" zum ersten Mal beim Durl
 acher Kultursommer. Zusammen mit unserer S=C3=A4ngerin Birgit bieten wir Ih
 nen ein buntes Programm im Big Band Sound. Singen\, tanzen\, wippen und klats
 chen sie mit !! =20
URL:https://kalender.karlsruhe.de/db/termine/stadtleben/durlacher_kultursommer-5
CLASS:PUBLIC
DTSTART:20260802T190000
DTEND:20260802T214500
DTSTAMP:20260409T112603
CATEGORIES:Stadtleben
ATTACH:https://kalender.karlsruhe.de/db/termine/stadtleben/durlacher_kultursommer-5/file/icon_Brandheiß-Bild-kultursommer.jpg
END:VEVENT

END:VCALENDAR
