BEGIN:VCALENDAR
VERSION:2.0
CALSCALE:GREGORIAN
PRODID:https://kalender.karlsruhe.de/db/termine/
METHOD:PUBLISH
BEGIN:VEVENT
UID:580681
ORGANIZER;CN=Stadtamt Durlach & OrgelFabrik Kultur in Durlach e V.:MAILTO:
LOCATION:Schlossgarten Durlach
SUMMARY:Durlacher Kultursommer
DESCRIPTION;ENCODING=QUOTED-PRINTABLE:Konzert - DuO=0D=0A=0D=0A  Das Karlsruher =E2=80=9EDuO=E2=80=9C mit Simone Dentler 
 (Blockfl=C3=B6ten) und Martin Sauer (Gitarre\, Ukulele und Percussion) l=C3
 =A4dt mit seinem Programm =E2=80=9EEine musikalische Reise durch Klang und 
 Zeit=E2=80=9C zu einem besonderen Klangerlebnis ein. Musik verschiedener Ep
 ochen und Genres =E2=80=93 von mittelalterlichen T=C3=A4nzen =C3=BCber Baro
 ck bis hin zu lateinamerikanischer Musik und Jazz =E2=80=93 entfaltet sich 
 in =C3=BCberraschenden Klangfarben\, kreativen Arrangements und unkonvention
 ellen Spieltechniken.    =20
URL:https://kalender.karlsruhe.de/db/termine/stadtleben/durlacher_kultursommer-6
CLASS:PUBLIC
DTSTART:20260807T190000
DTEND:20260807T214500
DTSTAMP:20260409T112637
CATEGORIES:Stadtleben
ATTACH:https://kalender.karlsruhe.de/db/termine/stadtleben/durlacher_kultursommer-6/file/icon_Bid 1.jpg
END:VEVENT

END:VCALENDAR
