BEGIN:VCALENDAR
VERSION:2.0
CALSCALE:GREGORIAN
PRODID:https://kalender.karlsruhe.de/db/termine/
METHOD:PUBLISH
BEGIN:VEVENT
UID:580682
ORGANIZER;CN=Stadtamt Durlach & OrgelFabrik Kultur in Durlach e V.:MAILTO:
LOCATION:Schlossgarten Durlach
SUMMARY:Durlacher Kultursommer
DESCRIPTION;ENCODING=QUOTED-PRINTABLE:Konzert - Frogs=0D=0A=0D=0A  Was gibt es Sch=C3=B6neres als ein paar vertraute Jazz
 -Songs an einem Sommerabend? Die Frogs grooven sich mit einem einzigartigen
  Mix aus Swing\, Latin und Blues mit einigen funkigen Sounds durch verschied
 ene Kapitel der Jazzgeschichte. Mit Jazzgitarre\, Fl=C3=B6te\, Gesang\, Saxoph
 on\, Piano\, Bass und Drums gehen die sieben Musiker in einen jahrzehntealten
 \, doch immer neuen und oft =C3=BCberraschenden musikalischen Austausch.    
 =20
URL:https://kalender.karlsruhe.de/db/termine/stadtleben/durlacher_kultursommer-7
CLASS:PUBLIC
DTSTART:20260808T190000
DTEND:20260808T214500
DTSTAMP:20260409T112658
CATEGORIES:Stadtleben
ATTACH:https://kalender.karlsruhe.de/db/termine/stadtleben/durlacher_kultursommer-7/file/icon_FrogsPhoto.jpg
END:VEVENT

END:VCALENDAR
