BEGIN:VCALENDAR
VERSION:2.0
CALSCALE:GREGORIAN
PRODID:https://kalender.karlsruhe.de/db/termine/
METHOD:PUBLISH
BEGIN:VEVENT
UID:580683
ORGANIZER;CN=Stadtamt Durlach & OrgelFabrik Kultur in Durlach e V.:MAILTO:
LOCATION:Schlossgarten Durlach
SUMMARY:Durlacher Kultursommer
DESCRIPTION;ENCODING=QUOTED-PRINTABLE:Konzert - Felix=0D=0A=0D=0A  FELIX verbindet modernen Indie-Pop mit ehrlichen Gesch
 ichten und einem Sound\, der zwischen emotionaler Tiefe und sommerlicher Lei
 chtigkeit pendelt. Seine Songs handeln von Beziehungen\, Selbstzweifeln und 
 dem Wunsch nach echter Verbindung =E2=80=93 mal ruhig und reflektiert\, mal 
 eing=C3=A4ngig und voller Energie. Dabei entstehen Tracks\, die sowohl ber
 =C3=BChren als auch mitnehmen. Live schafft er eine Atmosph=C3=A4re\, die na
 hbar ist und gleichzeitig Raum f=C3=BCr W=C3=A4rme l=C3=A4sst.    =20
URL:https://kalender.karlsruhe.de/db/termine/stadtleben/durlacher_kultursommer-8
CLASS:PUBLIC
DTSTART:20260809T190000
DTEND:20260809T214500
DTSTAMP:20260409T112730
CATEGORIES:Stadtleben
ATTACH:https://kalender.karlsruhe.de/db/termine/stadtleben/durlacher_kultursommer-8/file/icon_FELIX_Pressebild_Kultursommer Durlach 2026.jpg
END:VEVENT

END:VCALENDAR
