BEGIN:VCALENDAR
VERSION:2.0
CALSCALE:GREGORIAN
PRODID:https://kalender.karlsruhe.de/db/termine/
METHOD:PUBLISH
BEGIN:VEVENT
UID:580684
ORGANIZER;CN=Stadtamt Durlach & OrgelFabrik Kultur in Durlach e V.:MAILTO:
LOCATION:Schlossgarten Durlach
SUMMARY:Durlacher Kultursommer
DESCRIPTION;ENCODING=QUOTED-PRINTABLE:Konzert - A.M.U.S.E.=0D=0A=0D=0A  A.M.U.S.E. l=C3=A4dt Euch mit einer feinen Auswah
 l aus Rock-\, Funk- und Reggae-Songs zum Schwingen und Tanzen ein.       Uns
 er Repertoire hat sich erstmals auch um eigene St=C3=BCcke erweitert.      
    Mit Euch zusammen machen wir den Durlacher Schlossgarten an diesem Abend
  zu einem Ort voll guter Energie\, Liebe und Frieden.    =20
URL:https://kalender.karlsruhe.de/db/termine/stadtleben/durlacher_kultursommer-9
CLASS:PUBLIC
DTSTART:20260813T190000
DTEND:20260813T214500
DTSTAMP:20260409T112742
CATEGORIES:Stadtleben
ATTACH:https://kalender.karlsruhe.de/db/termine/stadtleben/durlacher_kultursommer-9/file/icon_IMG-20260313-WA0010.jpg
END:VEVENT

END:VCALENDAR
