BEGIN:VCALENDAR
VERSION:2.0
CALSCALE:GREGORIAN
PRODID:https://kalender.karlsruhe.de/db/termine/
METHOD:PUBLISH
BEGIN:VEVENT
UID:580672
ORGANIZER;CN=Stadtamt Durlach & OrgelFabrik Kultur in Durlach e V.:MAILTO:
LOCATION:Schlossgarten Durlach
SUMMARY:Durlacher Kultursommer
DESCRIPTION;ENCODING=QUOTED-PRINTABLE:Konzert - Turmberg-City-Stopers=0D=0A=0D=0A  Anl=C3=A4sslich ihres 50. Jubil=C3=A4u
 ms wird die in der Stadt und Region bestens bekannte Uraltband auch beim di
 esj=C3=A4hrigen Kultursommer mit Jazz\, Dixie\, Swing und Blues das Publikum 
 wieder begeistern.         In der voraussichtlichen Besetzung: Wolfgang =E2
 =80=9EWeWe=E2=80=9C Weber\, Hans K=C3=BCchel\, Hermann Meisel\, Gerhard =E2=80
 =9EGaul=E2=80=9C Stolz\, Axel Hauck\, Uwe Daiminger und Rainer Daub.    =20
URL:https://kalender.karlsruhe.de/db/termine/stadtleben/durlacher_kultursommer
CLASS:PUBLIC
DTSTART:20260725T190000
DTEND:20260725T214500
DTSTAMP:20260409T112511
CATEGORIES:Stadtleben
ATTACH:https://kalender.karlsruhe.de/db/termine/stadtleben/durlacher_kultursommer/file/icon_TCS-Foto mit Turmberg + Jubi.-Logo.jpg
END:VEVENT

END:VCALENDAR
