BEGIN:VCALENDAR
VERSION:2.0
CALSCALE:GREGORIAN
PRODID:https://kalender.karlsruhe.de/db/termine/
METHOD:PUBLISH
BEGIN:VEVENT
UID:579861
ORGANIZER;CN=Karlsruher Energie- und Klimaschutzagentur:MAILTO:info@kek-karlsruhe.de
LOCATION:Startpunkt Elterncafé
SUMMARY:Energiewende in Neureut – Energiegespräch beim Startpunkt Elterncafé
DESCRIPTION;ENCODING=QUOTED-PRINTABLE:Sie m=C3=B6chten ihre Wohnung oder Ihr Haus fit f=C3=BCr die Zukunft machen
 ? Kommen Sie zum Energiegespr=C3=A4ch nach Neureut.=0D=0A=0D=0A  Wie gelingt Klimas
 chutz vor Ort? Und wie kann man mit einfachen  Ma=C3=9Fnahmen Energie und d
 amit Kosten sparen? Antworten auf diese und  weitere Fragen gibt es beim En
 ergiegespr=C3=A4ch am 21. April 2026. Die  Energieberater der Karlsruher En
 ergie- und Klimaschutzagentur (KEK)  geben wertvolle Tipps\, wie Sie Ihr Hau
 s oder Ihre Wohnung fit f=C3=BCr die  Zukunft machen k=C3=B6nnen.    Ob    
  energetische Sanierung\, Heizungstausch\, erneuerbare Energien    oder     e
 infache Spartipps f=C3=BCr den Alltag    :  Sie erhalten praktische Tipps v
 on den Expertinnen und Experten der KEK  und k=C3=B6nnen Ihre individuellen
  Fragen stellen. Egal ob Hauseigent=C3=BCmer  oder Mieter\, jede und jeder p
 rofitiert von konkreten Empfehlungen und  hilfreichen F=C3=B6rderinfos.    
 Kommen Sie vorbei\, informieren Sie sich und bringen Sie gerne Ihre Fragen m
 it!    Diese Veranstaltung findet im Rahmen der Aktionswoche =E2=80=9EKEK o
 n tour in Neureut=E2=80=9C statt    =0D=0A =20
URL:https://kalender.karlsruhe.de/db/termine/stadtleben/energiewende_in_neureut_energiegesprach
CLASS:PUBLIC
DTSTART:20260421T100000
DTEND:20260421T120000
DTSTAMP:20260407T111922
CATEGORIES:Stadtleben
ATTACH:https://kalender.karlsruhe.de/db/termine/stadtleben/energiewende_in_neureut_energiegesprach/file/icon_energiewende-neureut.jpg
END:VEVENT

END:VCALENDAR
