BEGIN:VCALENDAR
VERSION:2.0
CALSCALE:GREGORIAN
PRODID:https://kalender.karlsruhe.de/db/termine/
METHOD:PUBLISH
BEGIN:VEVENT
UID:581083
ORGANIZER;CN=EUROPE DIRECT Karlsruhe:MAILTO:europa@rpk.bwl.de
LOCATION:BBBank Wildpark
SUMMARY:Europa-Aktionsstand
DESCRIPTION;ENCODING=QUOTED-PRINTABLE:EUROPE DIRECT Karlsruhe beim Heimspiel des KSC gegen Darmstadt 98=0D=0A=0D=0A
URL:https://kalender.karlsruhe.de/db/termine/stadtleben/europa_aktionsstand
CLASS:PUBLIC
DTSTART:20260503T110000
DTEND:20260503T133000
DTSTAMP:20260421T110504
CATEGORIES:Stadtleben
ATTACH:https://kalender.karlsruhe.de/db/termine/stadtleben/europa_aktionsstand/file/icon_IMG_0868.jpg
END:VEVENT

END:VCALENDAR
