BEGIN:VCALENDAR
VERSION:2.0
CALSCALE:GREGORIAN
PRODID:https://kalender.karlsruhe.de/db/termine/
METHOD:PUBLISH
BEGIN:VEVENT
UID:575932
ORGANIZER;CN=HWK Gärtnerei Grötzingen:MAILTO:gaertnerei@hwk.com
LOCATION:HWK Gärtnerei Grötzingen
SUMMARY:Fensterblümlesmarkt
DESCRIPTION;ENCODING=QUOTED-PRINTABLE:In der HWK G=C3=A4rtnerei=0D=0A=0D=0A  Wir starten in die Beet- und Balkonsaison :-
 ).    Kommen Sie vorbei\, schlendern Sie durch die Gew=C3=A4chsh=C3=A4user u
 nd unseren Au=C3=9Fenbereich inmitten der Gr=C3=B6tzinger Felder. Ihr G=C3
 =A4rtnerInnenherz wird sich freuen\, denn Sie finden bei uns (nicht nur an d
 iesem Tag) alles\, was Sie brauchen\, um das Leben wieder gr=C3=BCner und bun
 ter zu machen.    Ein Ausflug zum Fensterbl=C3=BCmlesmarkt lohnt schon alle
 in wegen der leckeren Speisen und Getr=C3=A4nke\, mit denen wir Sie an diese
 m Tag versorgen.    Sie finden bei uns Zier- und Beerenstr=C3=A4ucher\, Erde
 n\, D=C3=BCnger\, Gartenzubeh=C3=B6r und -Deko. Und nat=C3=BCrlich gibt es we
 iterhin unsere Klassiker\, wie die Gr=C3=B6tzinger Staudenkisten oder einzel
 ne Wildstauden. Auch erste Kr=C3=A4uter und Gem=C3=BCsesetzlinge bieten wir
  beim Fensterbl=C3=BCmlesmarkt schon an. =20
URL:https://kalender.karlsruhe.de/db/termine/stadtleben/fensterblumlesmarkt-1
CLASS:PUBLIC
DTSTART:20260425T080000
DTEND:20260425T180000
DTSTAMP:20251030T122753
CATEGORIES:Stadtleben
ATTACH:https://kalender.karlsruhe.de/db/termine/stadtleben/fensterblumlesmarkt-1/file/icon_Fensterblümlesmarkt_Bildquelle_HWK gGmbH.jpg
END:VEVENT

END:VCALENDAR
