BEGIN:VCALENDAR
VERSION:2.0
CALSCALE:GREGORIAN
PRODID:https://kalender.karlsruhe.de/db/termine/
METHOD:PUBLISH
BEGIN:VEVENT
UID:577924
ORGANIZER;CN=KME Karlsruhe Marketing und Event GmbH:MAILTO:info@karlsruhe-event.de
LOCATION:Innenstadt Karlsruhe
SUMMARY:Fest der Sinne 2026
DESCRIPTION;ENCODING=QUOTED-PRINTABLE:Bummeln\, entdecken\, genie=C3=9Fen: Beim Fest der Sinne verwandelt sich die 
 Karlsruher Innenstadt jedes Fr=C3=BChjahr in eine lebendige Erlebniswelt. F
 arbenfrohe St=C3=A4nde\, besondere Aktionen und kulinarische Highlights lade
 n zum Verweilen ein.=0D=0A=0D=0A  Das Fest der Sinne l=C3=A4dt am 25. & 26. April 2
 026 zu einem erlebnisreichen Stadtbummel durch die Karlsruher Innenstadt ei
 n. Auf dem     Marktplatz    begeistert der     Genussmarkt    mit vielf=C3
 =A4ltigen kulinarischen Angeboten\, w=C3=A4hrend ein abwechslungsreiches    
  Familienprogramm    Gro=C3=9F und Klein zum Mitmachen einl=C3=A4dt.      W
 alkacts    und besondere Aktionen sorgen f=C3=BCr lebendige Momente in den 
 Stra=C3=9Fen und Pl=C3=A4tzen der Innenstadt. Abgerundet wird das Fest am S
 onntag durch den     verkaufsoffenen Sonntag    \, bei dem zahlreiche Gesch
 =C3=A4fte von 13:00 bis 18:00 Uhr mit fr=C3=BChlingshaften Sonderaktionen z
 um entspannten Einkaufen einladen.    Foto: KME Karlsruhe Marketing und Eve
 nt GmbH | J=C3=BCrgen R=C3=B6sner  =0D=0A =20
URL:https://kalender.karlsruhe.de/db/termine/stadtleben/fest_der_sinne2026n
CLASS:PUBLIC
DTSTART:20260425T000000
DTEND:20260426T000000
DTSTAMP:20260113T155454
CATEGORIES:Stadtleben
ATTACH:https://kalender.karlsruhe.de/db/termine/stadtleben/fest_der_sinne2026n/file/icon_Fest_der_Sinne_Karlsruhe_2025_Genussmarkt_©_KME_JürgenRösner_1.jpg
END:VEVENT

END:VCALENDAR
