BEGIN:VCALENDAR
VERSION:2.0
CALSCALE:GREGORIAN
PRODID:https://kalender.karlsruhe.de/db/termine/
METHOD:PUBLISH
BEGIN:VEVENT
UID:580917
ORGANIZER;CN=Klimabündnis:MAILTO:info@klimabuendnis-karlsruhe.de
LOCATION:Zukunftsraum für Nachhaltigkeit und Wissenschaft
SUMMARY:Filmabend: Eating Our Way to Extinction
DESCRIPTION;ENCODING=QUOTED-PRINTABLE:Was wir essen\, ver=C3=A4ndert die Welt - Filmvorf=C3=BChrung\, Impulsvortrag
  und Austausch zu klimagerechter und gesunder Ern=C3=A4hrung=0D=0A=0D=0A  Der Dokum
 entarfilm "Eating Our Way to Extinction" beleuchtet die verheerenden Auswir
 kungen der globalen industriellen Tierhaltung auf den Klimawandel\, die Abho
 lzung von W=C3=A4ldern und die Zerst=C3=B6rung von =C3=96kosystemen. Durch 
 Interviews mit Forschenden und Einblicke in die Lebensmittelindustrie zeigt
  der Film auf\, wie der pers=C3=B6nliche Fleisch- und Fischkonsum zur =C3=B6
 kologischen Krise beitr=C3=A4gt und appelliert f=C3=BCr einen Wechsel zu ei
 ner pflanzlichen Ern=C3=A4hrung.    Zukunftsraum\, Rintheimer Str. 46\, 76131
  Karlsruhe    Referentin: Kathrine Norrmann\, Klimab=C3=BCndnis Karlsruhe   
  Eintritt frei =20
URL:https://kalender.karlsruhe.de/db/termine/stadtleben/filmabend_eating_our_way_to_extinction
CLASS:PUBLIC
DTSTART:20260506T190000
DTEND:20260506T210000
DTSTAMP:20260415T102029
CATEGORIES:Stadtleben
ATTACH:https://kalender.karlsruhe.de/db/termine/stadtleben/filmabend_eating_our_way_to_extinction/file/icon_260409_Filmposter.jpg
END:VEVENT

END:VCALENDAR
