BEGIN:VCALENDAR
VERSION:2.0
CALSCALE:GREGORIAN
PRODID:https://kalender.karlsruhe.de/db/termine/
METHOD:PUBLISH
BEGIN:VEVENT
UID:580234
ORGANIZER;CN=Naturschutzzentrum Karlsruhe-Rappenwört:MAILTO:info@nazka.de
LOCATION:Naturschutzzentrum Karlsruhe-Rappenwört
SUMMARY:Filzen mit den Jahreszeiten
DESCRIPTION;ENCODING=QUOTED-PRINTABLE:F=C3=BCr Kinder ab 7 Jahren=0D=0A=0D=0A  Wir lassen uns von Herbst und Natur inspir
 ieren und filzen mit bunter Wolle Deko f=C3=BCr den Jahreszeitentisch.  =0D=0A 
  =0D=0A  Folgendes Material bitte mitbringen:  =0D=0A  2 Handt=C3=BCcher\, ein Backb
 lech oder Tablett (wasserfest) und eine Sch=C3=BCssel Durchmesser etwa 20cm
       Leitung:    Marianne Heinzler\, Filzgestalterin  =0D=0A     Kosten:    34 
 =E2=82=AC / Kind in Begleitung eines Erwachsenen\, jede weitere Person 17 
 =E2=82=AC (inklusive Materialkosten)      Anmeldung mit=C2=A0Vorab=C3=BCber
 weisung der Teilnahmegeb=C3=BChr=C2=A0bis 05.10.26=C2=A0erforderlich.   =20
URL:https://kalender.karlsruhe.de/db/termine/stadtleben/filzen_mit_den_jahreszeiten
CLASS:PUBLIC
DTSTART:20261011T130000
DTEND:20261011T163000
DTSTAMP:20260330T084007
CATEGORIES:Stadtleben
ATTACH:https://kalender.karlsruhe.de/db/termine/stadtleben/filzen_mit_den_jahreszeiten/file/icon_Logo Nazka 3,0 cm.jpg
END:VEVENT

END:VCALENDAR
