BEGIN:VCALENDAR
VERSION:2.0
CALSCALE:GREGORIAN
PRODID:https://kalender.karlsruhe.de/db/termine/
METHOD:PUBLISH
BEGIN:VEVENT
UID:575981
ORGANIZER;CN=HWK Gärtnerei Grötzingen:MAILTO:gaertnerei@hwk.com
LOCATION:HWK Gärtnerei Grötzingen
SUMMARY:Frühstück in der Gärtnerei
DESCRIPTION;ENCODING=QUOTED-PRINTABLE:In der HWK G=C3=A4rtnerei=0D=0A=0D=0A  Details zu gegebener Zeit auf der Webseite. 
 =20
URL:https://kalender.karlsruhe.de/db/termine/stadtleben/fruhstuck_in_der_gartnerei
CLASS:PUBLIC
DTSTART:20260509T080000
DTEND:20260509T120000
DTSTAMP:20251110T092421
CATEGORIES:Stadtleben
ATTACH:https://kalender.karlsruhe.de/db/termine/stadtleben/fruhstuck_in_der_gartnerei/file/icon_Frühstück_HWKGärtnerei_Bildquelle_pixabay-geralt.jpg
END:VEVENT

END:VCALENDAR
