BEGIN:VCALENDAR
VERSION:2.0
CALSCALE:GREGORIAN
PRODID:https://kalender.karlsruhe.de/db/termine/
METHOD:PUBLISH
BEGIN:VEVENT
UID:580233
ORGANIZER;CN=Naturschutzzentrum Karlsruhe-Rappenwört:MAILTO:info@nazka.de
LOCATION:Naturschutzzentrum Karlsruhe-Rappenwört
SUMMARY:Führung: Pflanzen der Rheinaue
DESCRIPTION;ENCODING=QUOTED-PRINTABLE:F=C3=BChrung=0D=0A=0D=0A  Die Flusslandschaft am Oberrhein weist eine bemerkenswert
  artenreiche Vegetation auf. Bei den botanischen Exkursionen auf =E2=80=9ER
 appenw=C3=B6rt=E2=80=9C=C2=A0lernen wir typische und seltene Pflanzenarten 
 der Hart- und Weichholzaue sowie der Magerrasen auf den Brennen und Hochwas
 serdeichen kennen.      Leitung:    Siegfried Demuth\,=C2=A0Botanische Arbei
 tsgemeinschaft S=C3=BCdwestdeutschland  =0D=0A     Kosten:    kostenfrei      A
 nmeldung bis 01.10.26=C2=A0erforderlich!   =20
URL:https://kalender.karlsruhe.de/db/termine/stadtleben/fuhrung_pflanzen_der_rheinaue-1
CLASS:PUBLIC
DTSTART:20261004T110000
DTEND:20261004T133000
DTSTAMP:20260324T102234
CATEGORIES:Stadtleben
ATTACH:https://kalender.karlsruhe.de/db/termine/stadtleben/fuhrung_pflanzen_der_rheinaue-1/file/icon_Logo Nazka 3,0 cm.jpg
END:VEVENT

END:VCALENDAR
