BEGIN:VCALENDAR
VERSION:2.0
CALSCALE:GREGORIAN
PRODID:https://kalender.karlsruhe.de/db/termine/
METHOD:PUBLISH
BEGIN:VEVENT
UID:579335
ORGANIZER;CN=Naturschutzzentrum Karlsruhe-Rappenwört:MAILTO:info@nazka.de
LOCATION:Naturschutzzentrum Karlsruhe-Rappenwört
SUMMARY:Führung: Pflanzen der Rheinaue
DESCRIPTION;ENCODING=QUOTED-PRINTABLE:Mit Exkurs =C3=BCber Bestimmungs-Apps=0D=0A=0D=0A  Foto:=C2=A0=C2=A9A. Wolf    F=C3
 =BChrung zu den Auenw=C3=A4ldern und Altrheinarmen sowie den Magerwiesen au
 f den Hochwasserd=C3=A4mmen auf Rappenw=C3=B6rt.  =0D=0A  Als kleinen Exkurs f
 =C3=BChren wir in die Nutzung von Bestimmungs-Apps ein und zeigen auf\, welc
 he Vor- und Nachteile sie bieten.      Leitung:    Jonathan Fritz und Micha
 el Bott\, Botanische Arbeitsgemeinschaft S=C3=BCdwestdeutschland  =0D=0A     Kos
 tenfreie Veranstaltung        Anmeldung bis 08.05.2026=C2=A0erforderlich!  
  =20
URL:https://kalender.karlsruhe.de/db/termine/stadtleben/fuhrung_pflanzen_der_rheinaue
CLASS:PUBLIC
DTSTART:20260510T110000
DTEND:20260510T133000
DTSTAMP:20260223T081143
CATEGORIES:Stadtleben
ATTACH:https://kalender.karlsruhe.de/db/termine/stadtleben/fuhrung_pflanzen_der_rheinaue/file/icon_Pflanzen der Rheinaue 600x500_010522 (c) A. WOLF.jpg
END:VEVENT

END:VCALENDAR
