BEGIN:VCALENDAR
VERSION:2.0
CALSCALE:GREGORIAN
PRODID:https://kalender.karlsruhe.de/db/termine/
METHOD:PUBLISH
BEGIN:VEVENT
UID:578764
ORGANIZER;CN=Gartenbauamt Stadt Karlsruhe:MAILTO:oeffentlichkeitsarbeit@gba.karlsruhe.de
LOCATION:Grünwettersbacher Wald
SUMMARY:Führung Wiesenspaziergang
DESCRIPTION;ENCODING=QUOTED-PRINTABLE:Gartenbauamt stellt die Wiese in den Mittelpunkt=0D=0A=0D=0A  Erste B=C3=BCrgermeis
 terin Bettina Lisbach und Doris Fath\, Leiterin des Gartenbauamtes\, laden in
 teressierte B=C3=BCrgerinnen und B=C3=BCrger zum diesj=C3=A4hrigen Wiesensp
 aziergang nach Gr=C3=BCnwettersbach ein.  =0D=0A  Der Treffpunkt ist am Sonntag
 \, 10. Mai 2025\, um 10:00 Uhr in Gr=C3=BCnwettersbach am Westende des R=C3
 =B6tlingwegs. F=C3=BCr den Spaziergang sind etwa zwei Stunden einzuplanen. 
  =0D=0A    Im Mittelpunkt stehen die Wiesen entlang des Hatzengrabens und der a
 ngrenzenden Fl=C3=A4chen mit ihren typischen Strukturen der Karlsruher Berg
 zone. Die artenreichen Wiesen sind das Ergebnis einer extensiven Bewirtscha
 ftung und zeichnen sich durch eine gro=C3=9Fe Vielfalt an Gr=C3=A4sern und 
 Kr=C3=A4utern aus. Sie bieten zahlreichen Insekten einen wichtigen Lebensra
 um und leisten damit einen bedeutenden Beitrag zum Erhalt der Biodiversit
 =C3=A4t. Eingebettet sind sie in ein Mosaik aus Streuobstwiesen\, Hecken\, Al
 tgrasstreifen und landwirtschaftlich genutzten Fl=C3=A4chen\, das die Landsc
 haft besonders vielf=C3=A4ltig macht.       Das Gebiet liegt im n=C3=B6rdli
 chen Schwarzwald und ist Teil des Naturparks Schwarzwald Mitte/Nord. Als FF
 H-Schutzgebiet besitzt es eine europaweite Bedeutung und zeigt anschaulich\,
  wie Ma=C3=9Fnahmen der Biotopverbundplanung zur =C3=B6kologischen Aufwertu
 ng der Landschaft beitragen k=C3=B6nnen.         Neben spannenden Einblicke
 n in die Wiesen=C3=B6kologie und Landschaftsentwicklung bietet der Spazierg
 ang auch Gelegenheit\, die besondere Bedeutung dieser Fl=C3=A4chen f=C3=BCr 
 Natur und Erholung kennenzulernen.       Inhaltlich wird die F=C3=BChrung v
 on Thomas Breunig\, Institut f=C3=BCr Botanik und Landschaftskunde\, geleitet
 . =20
URL:https://kalender.karlsruhe.de/db/termine/stadtleben/fuhrung_wiesenspaziergang-1
CLASS:PUBLIC
DTSTART:20260510T100000
DTEND:20260510T120000
DTSTAMP:20260413T100554
CATEGORIES:Stadtleben
ATTACH:https://kalender.karlsruhe.de/db/termine/stadtleben/fuhrung_wiesenspaziergang-1/file/icon_Wiesenführung-Führung_Quelle_Angelika Elsener.jpg
END:VEVENT

END:VCALENDAR
