BEGIN:VCALENDAR
VERSION:2.0
CALSCALE:GREGORIAN
PRODID:https://kalender.karlsruhe.de/db/termine/
METHOD:PUBLISH
BEGIN:VEVENT
UID:579719
ORGANIZER;CN=Stadt Karlsruhe – Kinderbüro:MAILTO:kinderbuero@karlsruhe.de
LOCATION:Online Veranstaltung
SUMMARY:Geschwistereifersucht & -streit in Familien mit kleinen Kindern
DESCRIPTION;ENCODING=QUOTED-PRINTABLE:Online-Veranstaltung vom Kinderb=C3=BCro der Stadt Karlsruhe=0D=0A=0D=0A  Eifersuch
 t und Streit unter Geschwistern - ein ganz normales Ph=C3=A4nomen.    Gleic
 hzeitig bringen die Geburt eines Geschwisterchens und das Zusammenleben meh
 rerer Kinder in einer Familie gro=C3=9Fe Herausforderungen f=C3=BCr den Fam
 ilienalltag mit sich.    In dieser Veranstaltung wollen wir die Perspektive
 n der verschiedenen Familienmitglieder beleuchten und verstehen. Wir werden
  anhand der von Ihnen erlebten Situationen Ideen f=C3=BCr den Umgang mit Ge
 schwistereifersucht und -streit entwickeln und auch Chancen der Geschwister
 beziehungen in den Blick nehmen.    Au=C3=9Ferdem wollen wir uns anschauen\,
  wie Eltern ein Kind auf die Geburt eines Geschwisterchens vorbereiten k=C3
 =B6nnen.    Referentin:     Frauke Ostmann    und     Stefanie Wallenfels\, 
    Beratungsstelle Fr=C3=BChe Hilfen    Die Veranstaltung richtet sich an E
 ltern mit Kindern im Alter von 0-3 Jahren\, die sich mit diesen Fragen besch
 =C3=A4ftigen wollen.  =0D=0A =20
URL:https://kalender.karlsruhe.de/db/termine/stadtleben/geschwistereifersucht_streit_in_familien
CLASS:PUBLIC
DTSTART:20260423T200000
DTEND:20260423T210000
DTSTAMP:20260303T104736
CATEGORIES:Stadtleben
ATTACH:https://kalender.karlsruhe.de/db/termine/stadtleben/geschwistereifersucht_streit_in_familien/file/icon_ON-AIR-mit-Schrift-Kalender.jpg
END:VEVENT

END:VCALENDAR
