BEGIN:VCALENDAR
VERSION:2.0
CALSCALE:GREGORIAN
PRODID:https://kalender.karlsruhe.de/db/termine/
METHOD:PUBLISH
BEGIN:VEVENT
UID:579753
ORGANIZER;CN=Menschen für Grötzingen eV:MAILTO:info@mfg-groetzingen.de
LOCATION:Grötzingen
SUMMARY:Grötzinger Hofflohmarkt
DESCRIPTION;ENCODING=QUOTED-PRINTABLE:Ein Stadtteil - viele H=C3=B6fe - ein gemeinsamer Flohmarkt=0D=0A=0D=0A  Alle angem
 eldeten St=C3=A4nde werden auf einer =C3=9Cbersichtskarte f=C3=BCr Besucher
 *innen ver=C3=B6ffentlicht.    Anmeldung + Info:=C2=A0 =C2=A0 =C2=A0 =C2=A0
  =C2=A0 =C2=A0 =C2=A0 =C2=A0 =C2=A0 =C2=A0 =C2=A0 =C2=A0 =C2=A0 =C2=A0 www.
 mfg-groetzingen.de/hofflohmarkt =20
URL:https://kalender.karlsruhe.de/db/termine/stadtleben/grotzinger_hofflohmarkt
CLASS:PUBLIC
DTSTART:20260627T100000
DTEND:20260627T150000
DTSTAMP:20260310T142812
CATEGORIES:Stadtleben
ATTACH:https://kalender.karlsruhe.de/db/termine/stadtleben/grotzinger_hofflohmarkt/file/icon_-5289926419385358853_121.jpg
END:VEVENT

END:VCALENDAR
