BEGIN:VCALENDAR
VERSION:2.0
CALSCALE:GREGORIAN
PRODID:https://kalender.karlsruhe.de/db/termine/
METHOD:PUBLISH
BEGIN:VEVENT
UID:578127
ORGANIZER;CN=HWK Gärtnerei Grötzingen:MAILTO:gaertnerei@hwk.com
LOCATION:HWK Gärtnerei Grötzingen
SUMMARY:Heimische Stauden im Garten
DESCRIPTION;ENCODING=QUOTED-PRINTABLE:Verwendung\, Eigenheiten\, =C3=B6kologische Bedeutung=0D=0A=0D=0A  Heimische Stauden 
 und ihre Verwendung im Garten: Einf=C3=BChrung heimische Stauden\, Eigenheit
 en gegen=C3=BCber konventionellen Stauden\, =C3=B6kologische Bedeutung =E2
 =80=93 Begehung Staudenverkauf =E2=80=93 Einsatzbereiche heimischer Stauden
  im Garten\, z.B. Staudenpflanzungen\, S=C3=A4ume\, Artenanreicherung im Rasen
     Geleitet wird der Workshop von=C2=A0Michaela Senk=C2=A0Gartenspielraum 
 =E2=80=93 Naturnahe Gestaltung von G=C3=A4rten und Spielr=C3=A4umen\, die ih
 r Fachwissen und viele praktische Tipps aus ihrer langj=C3=A4hrigen Erfahru
 ng mit Ihnen teilt.    Kosten:=C2=A049 Euro    Anmeldung:      Eine=C2=A0ve
 rbindliche Anmeldung=C2=A0erfolgt per=C2=A0E-Mail an=C2=A0gaertnerei@hwk.co
 m.      Mit Ihrer Anmeldung erkl=C3=A4ren Sie sich mit unseren Teilnahmebed
 ingungen einverstanden. Wir danken f=C3=BCr Ihr Verst=C3=A4ndnis und freuen
  uns auf einen inspirierenden\, kreativen Workshop mit Ihnen!   =20
URL:https://kalender.karlsruhe.de/db/termine/stadtleben/heimische_stauden_im_garten
CLASS:PUBLIC
DTSTART:20260711T110000
DTEND:20260711T130000
DTSTAMP:20260120T120029
CATEGORIES:Stadtleben
ATTACH:https://kalender.karlsruhe.de/db/termine/stadtleben/heimische_stauden_im_garten/file/icon_Workshop_Heimisch_Stauden_Bildquelle_CanvaAI.jpg
END:VEVENT

END:VCALENDAR
