BEGIN:VCALENDAR
VERSION:2.0
CALSCALE:GREGORIAN
PRODID:https://kalender.karlsruhe.de/db/termine/
METHOD:PUBLISH
BEGIN:VEVENT
UID:580549
ORGANIZER;CN=Naturschutzzentrum Karlsruhe-Rappenwört:MAILTO:info@nazka.de
LOCATION:Naturschutzzentrum Karlsruhe-Rappenwört
SUMMARY:Heller Lichterglanz
DESCRIPTION;ENCODING=QUOTED-PRINTABLE:F=C3=BCr Kinder ab 5 Jahren=0D=0A=0D=0A  Wie verbringen eigentlich die Tiere im Wal
 d die Weihnachtszeit? =C3=9Cber welche Geschenke freuen sich Wildschwein un
 d Reh? Am w=C3=A4rmenden Feuer lauschen wir einer Geschichte und stellen Fu
 tter f=C3=BCr die V=C3=B6gel her und bescheren auch die Waldtiere.    Lasst
  euch =C3=BCberraschen\, was sich im Weihnachtswald so alles tut.  =0D=0A   Bitt
 e warm anziehen.      Leitung:    Anja Prei=C3=9F\, Ulrike Roelle\, Naturp=C3
 =A4dagogin  =0D=0A     Kosten:    14 =E2=82=AC / Kind in Begleitung eines Erwac
 hsenen\, jede weitere Person 7 =E2=82=AC      Anmeldung mit    Vorab=C3=BCbe
 rweisung der Teilnahmegeb=C3=BChr     bis 01.12.26=C2=A0erforderlich.   =20
URL:https://kalender.karlsruhe.de/db/termine/stadtleben/heller_lichterglanz
CLASS:PUBLIC
DTSTART:20261204T150000
DTEND:20261204T170000
DTSTAMP:20260330T083736
CATEGORIES:Stadtleben
ATTACH:https://kalender.karlsruhe.de/db/termine/stadtleben/heller_lichterglanz/file/icon_Logo Nazka 3,0 cm.jpg
END:VEVENT

END:VCALENDAR
