BEGIN:VCALENDAR
VERSION:2.0
CALSCALE:GREGORIAN
PRODID:https://kalender.karlsruhe.de/db/termine/
METHOD:PUBLISH
BEGIN:VEVENT
UID:578129
ORGANIZER;CN=HWK Gärtnerei Grötzingen:MAILTO:gaertnerei@hwk.com
LOCATION:HWK Gärtnerei Grötzingen
SUMMARY:Herbstkranz binden
DESCRIPTION;ENCODING=QUOTED-PRINTABLE:Deko f=C3=BCr den Herbst=0D=0A=0D=0A  Aus verschiedenen Materialien binden wir eine
 n Kranz\, den wir dann herbstlich dekorieren.    Kosten:    45=E2=82=AC\, ink
 lusive Kranzunterlagen und Deko-Elemente    Anmeldung:      Eine=C2=A0verbi
 ndliche Anmeldung=C2=A0erfolgt per=C2=A0E-Mail an=C2=A0gaertnerei@hwk.com. 
      Mit Ihrer Anmeldung erkl=C3=A4ren Sie sich mit unseren Teilnahmebeding
 ungen einverstanden. Wir danken f=C3=BCr Ihr Verst=C3=A4ndnis und freuen un
 s auf einen inspirierenden\, kreativen Workshop mit Ihnen!         =20
URL:https://kalender.karlsruhe.de/db/termine/stadtleben/herbstkranz_binden
CLASS:PUBLIC
DTSTART:20260926T110000
DTEND:20260926T130000
DTSTAMP:20260120T120029
CATEGORIES:Stadtleben
ATTACH:https://kalender.karlsruhe.de/db/termine/stadtleben/herbstkranz_binden/file/icon_pexels-petra-nesti-3086003-5367771.jpg
END:VEVENT

END:VCALENDAR
