BEGIN:VCALENDAR
VERSION:2.0
CALSCALE:GREGORIAN
PRODID:https://kalender.karlsruhe.de/db/termine/
METHOD:PUBLISH
BEGIN:VEVENT
UID:580126
ORGANIZER;CN=Naturschutzzentrum Karlsruhe-Rappenwört:MAILTO:info@nazka.de
LOCATION:Haltestelle Daxlanden Altrheinbrücke
SUMMARY:Heuschrecken in der Rheinniederung
DESCRIPTION;ENCODING=QUOTED-PRINTABLE:Veranstaltung=0D=0A=0D=0A  Heuschrecken pr=C3=A4gen mit ihrem Gezirpe und Geh=C3=BC
 pfe die Klangkulisse unserer Sommerwiesen und erf=C3=BCllen sie mit Leben. 
 Sie besiedeln vor allem unbewaldete Fl=C3=A4chen\, vom Moor bis zur Sandd=C3
 =BCne und von der Nasswiese bis zum Halbtrockenrasen. So klein sie auch sin
 d\, ihr Formen- und Farbenreichtum ist verbl=C3=BCffend.  =0D=0A  =0D=0A  In Baden-W
 =C3=BCrttemberg wurden bisher rund 70 Heuschreckenarten festgestellt. Einig
 e davon lernen Sie bei dieser Veranstaltung n=C3=A4her kennen. Wie zirpen H
 euschrecken\, was fressen und wie leben sie\, welche Arten sind bedroht und w
 ie kann man sie sch=C3=BCtzen? Mit Unterst=C3=BCtzung vom =C3=96komobil Kar
 lsruhe machen wir uns auf\, die heimische Heuschreckenfauna zu erforschen.  
 =0D=0A  =0D=0A     Referentin      :    Juliane Zimmermann\, Regierungspr=C3=A4sidiu
 m Karlsruhe\,=C2=A0=C3=96komobil  =0D=0A     Kosten:    kostenfrei =20
URL:https://kalender.karlsruhe.de/db/termine/stadtleben/heuschrecken_in_der_rheinniederung-1
CLASS:PUBLIC
DTSTART:20260903T140000
DTEND:20260903T170000
DTSTAMP:20260318T093927
CATEGORIES:Stadtleben
ATTACH:https://kalender.karlsruhe.de/db/termine/stadtleben/heuschrecken_in_der_rheinniederung-1/file/icon_Logo Nazka 3,0 cm.jpg
END:VEVENT

END:VCALENDAR
