BEGIN:VCALENDAR
VERSION:2.0
CALSCALE:GREGORIAN
PRODID:https://kalender.karlsruhe.de/db/termine/
METHOD:PUBLISH
BEGIN:VEVENT
UID:580463
ORGANIZER;CN=stattreisen Karlsruhe e.V.:MAILTO:info@stattreisen-karlsruhe.de
LOCATION:Straßenbahnhaltestelle Kühler Krug
SUMMARY:Hinter dem Roten Turm (zu Fuß) - Terra incognita zwischen Bannwaldallee und Bahngleisen
DESCRIPTION;ENCODING=QUOTED-PRINTABLE:Stadtf=C3=BChrung=0D=0A=0D=0A  Stadtf=C3=BChrungen einmal anders - spannend\, inform
 ativ und immer =C3=BCberraschend! Die F=C3=BChrungen von stattreisen Karlsr
 uhe  e.V. erm=C3=B6glichen neue  Einblicke in Geschichte und Architektur\, i
 n das Alltagsleben fr=C3=BCherer Zeiten - und in verborgene Ecken und Winke
 l der Stadt\, die Einheimische und G=C3=A4ste der Stadt gleicherma=C3=9Fen f
 aszinieren.  =0D=0A    Anmeldung und Informationen zur Teilnahmegeb=C3=BChr auf
  der Website!  =0D=0A    =0D=0A =20
URL:https://kalender.karlsruhe.de/db/termine/stadtleben/hinter_dem_roten_turm_zu_fu_terra_incognita
CLASS:PUBLIC
DTSTART:20260424T170000
DTEND:20260424T190000
DTSTAMP:20260326T084641
CATEGORIES:Stadtleben
ATTACH:https://kalender.karlsruhe.de/db/termine/stadtleben/hinter_dem_roten_turm_zu_fu_terra_incognita/file/icon_highres_highres_Stattreisen.jpg
END:VEVENT

END:VCALENDAR
