BEGIN:VCALENDAR
VERSION:2.0
CALSCALE:GREGORIAN
PRODID:https://kalender.karlsruhe.de/db/termine/
METHOD:PUBLISH
BEGIN:VEVENT
UID:580098
ORGANIZER;CN=Netzwerk Demenz Karlsruhe:MAILTO:vernetzung-demenz@sjb.karlsruhe.de
LOCATION:Stadtbibliothek im Neuen Ständehaus
SUMMARY:Ich denk nicht dran – Ein Vermächtnis zu Lebzeiten
DESCRIPTION;ENCODING=QUOTED-PRINTABLE:Ein Angebot des Netzwerk Demenz Karlsruhe=0D=0A=0D=0A    Was bleibt\, wenn die Gedan
 ken langsam verblassen?      In seinem Buch =E2=80=9EIch denk nicht  dran
 =E2=80=9C erz=C3=A4hlt     Jo Failer    eindringlich und zugleich lebensnah
  von seinem  Alltag mit der Diagnose =E2=80=9EAlzheimer Fr=C3=BChform=E2=80
 =9C. Mit 51 Jahren erh=C3=A4lt er  diese Nachricht =E2=80=93 mitten im Beru
 fsleben\, als Vater zweier kleiner Kinder  und eingebunden in ein aktives so
 ziales Umfeld.    Die Veranstaltung ist Teil der Veranstaltungsreihe =E2=80
 =9EGut informiert und aktiv leben!=E2=80=9C von Stadtbibliothek und Seniore
 nb=C3=BCro.    Keine Anmeldung notwendig! =20
URL:https://kalender.karlsruhe.de/db/termine/stadtleben/ich_denk_nicht_dran_ein_vermachtnis_zu_lebzeiten
CLASS:PUBLIC
DTSTART:20260521T150000
DTEND:20260521T163000
DTSTAMP:20260318T093922
CATEGORIES:Stadtleben
ATTACH:https://kalender.karlsruhe.de/db/termine/stadtleben/ich_denk_nicht_dran_ein_vermachtnis_zu_lebzeiten/file/icon_Netzwerk-Demenz.jpg
END:VEVENT

END:VCALENDAR
