BEGIN:VCALENDAR
VERSION:2.0
CALSCALE:GREGORIAN
PRODID:https://kalender.karlsruhe.de/db/termine/
METHOD:PUBLISH
BEGIN:VEVENT
UID:580606
ORGANIZER;CN=Moving Adventures Medien:MAILTO:
LOCATION:Filmtheater Schauburg, Marienstraße 16, 76137 Karlsruhe
SUMMARY:Int. OCEAN Film Tour
DESCRIPTION;ENCODING=QUOTED-PRINTABLE:Dein Abend mit den besten Meeres-Filmen der Saison! Jetzt auf Tour.=0D=0A=0D=0A  Fa
 szinierende Geschichten aus der Welt der Ozeane: Das zweist=C3=BCndige Prog
 ramm der INTERNATIONAL OCEAN FILM TOUR Vol. 12 zeigt Menschen\, die das Meer
  lieben und alles daf=C3=BCr tun\, diesen einzigartigen Lebensraum zu bewahr
 en. Seit =C3=BCber zehn Jahren begeistert die Filmtour ihr Publikum mit ein
 em unverwechselbaren Mix aus Filmen =C3=BCber alle Arten von Wassersport un
 d Meeresabenteuern=C2=A0 =E2=80=93 und liefert mit jedem Programm spannende
  Geschichten\, Inspiration und unvergessliche Denkanst=C3=B6=C3=9Fe. Alle In
 fos zur Tour und zu den aktuellen Filmen gibt es auf www.oceanfilmtour.com 
    =0D=0A =20
URL:https://kalender.karlsruhe.de/db/termine/stadtleben/int_ocean_film_tour
CLASS:PUBLIC
DTSTART:20260426T170000
DTEND:20260426T193000
DTSTAMP:20260330T104331
CATEGORIES:Stadtleben
ATTACH:https://kalender.karlsruhe.de/db/termine/stadtleben/int_ocean_film_tour/file/icon_OCEAN26_V12_MEDIA_HUB_1920 x 1080_LOGO.jpg
END:VEVENT

END:VCALENDAR
