BEGIN:VCALENDAR
VERSION:2.0
CALSCALE:GREGORIAN
PRODID:https://kalender.karlsruhe.de/db/termine/
METHOD:PUBLISH
BEGIN:VEVENT
UID:578988
ORGANIZER;CN=Pädagogische Hochschule Karlsruhe (PHKA):MAILTO:poststelle@ph-karlsruhe.de
LOCATION:Pädagogische Hochschule Karlsruhe (PHKA)
SUMMARY:Jungen Zukunftstag: Boys' Day 2026
DESCRIPTION;ENCODING=QUOTED-PRINTABLE:Zukunft gestalten mit Grundschullehramt und Kindheitsp=C3=A4dagogik=0D=0A=0D=0A  =0D=0A
     Die P=C3=A4dagogische Hochschule Karlsruhe macht mit beim Boys' Day 202
 6. Auf dem Programm f=C3=BCr Jungen ab 13 Jahren stehen f=C3=BCnf Workshops
 : Deutsch\, Englisch\, Sport\, Mathe\, Kunst. Anmeldeschluss ist der 22. April.
  Weitere Infos auf https://www.boys-day.de (Radar\, Angebote finden). =20
URL:https://kalender.karlsruhe.de/db/termine/stadtleben/jungen_zukunftstag_boys_day2026n
CLASS:PUBLIC
DTSTART:20260423T083000
DTEND:20260423T123000
DTSTAMP:20260217T083738
CATEGORIES:Stadtleben
ATTACH:https://kalender.karlsruhe.de/db/termine/stadtleben/jungen_zukunftstag_boys_day2026n/file/icon_Boys Day-Vortrag.jpg
END:VEVENT

END:VCALENDAR
