BEGIN:VCALENDAR
VERSION:2.0
CALSCALE:GREGORIAN
PRODID:https://kalender.karlsruhe.de/db/termine/
METHOD:PUBLISH
BEGIN:VEVENT
UID:572634
ORGANIZER;CN=Boservice Stadtführungen Karlsruhe:MAILTO:
LOCATION:City Tour durch Karlsruhe
SUMMARY:Karlsruhe Tour - Stadtführungen mit Herz
DESCRIPTION;ENCODING=QUOTED-PRINTABLE:Entdecke Karlsruhe auf eine unvergessliche Weise!=0D=0A=0D=0A  =0D=0A    Jede=C2=A0Stad
 tf=C3=BChrung=C2=A0steckt voller spannender Geschichten und verborgener Sch
 =C3=A4tze. Lausche faszinierenden Anekdoten =C3=BCber die Menschen\, die Kar
 lsruhes Strassen belebt haben. Erkunde verborgene Winkel und historische Ge
 heimnisse in der F=C3=A4cherstadt . Auf der Karlsruhe Tour wird die Geschic
 hte lebendig. Entdecke auch als Ortskundiger noch unbekannte Seiten deiner 
 Stadt!    Wir freuen uns auf dich.    Treffpunkt: Direkt vor dem Rathaus de
 r Stadt Karlsruhe        Preise:    Erwachsene: Euro 10\,00    Kinder und Ju
 gendliche 6-14 Jahre: frei    InfoTel.: 0721/91679888 oder mobil 0170/29350
 72    Internet: www.stadtfuehrungen-karlsruhe.de    Anmeldung erforderlich 
    Mindestteilnehmerzahl: 6 Personen =20
URL:https://kalender.karlsruhe.de/db/termine/stadtleben/karlsruhe_tour_stadtfuhrungen_mit_herz
CLASS:PUBLIC
DTSTART:20260101T140000
DTEND:20260131T153000
DTSTAMP:20251215T080857
CATEGORIES:Stadtleben
ATTACH:https://kalender.karlsruhe.de/db/termine/stadtleben/karlsruhe_tour_stadtfuhrungen_mit_herz/file/icon_IMG_3796.jpg
END:VEVENT

END:VCALENDAR
