BEGIN:VCALENDAR
VERSION:2.0
CALSCALE:GREGORIAN
PRODID:https://kalender.karlsruhe.de/db/termine/
METHOD:PUBLISH
BEGIN:VEVENT
UID:567627
ORGANIZER;CN=KME Karlsruhe Marketing und Event GmbH:MAILTO:info@karlsruhe-event.de
LOCATION:Karlsruhe Innenstadt
SUMMARY:Karlsruher Stadtfest 2026
DESCRIPTION;ENCODING=QUOTED-PRINTABLE:Das Herbst-Highlight der Region!=0D=0A=0D=0A    Das j=C3=A4hrlich am zweiten Oktobe
 rwochenende stattfindende Karlsruher Stadtfest l=C3=A4dt zu Live-Musik und 
 Gastronomie\, internationaler Stra=C3=9Fenkunst und einem gro=C3=9Fen Kinder
 - und Jugendprogramm ein.      Am verkaufsoffenen Sonntag\, den 11. Oktober\,
  =C3=B6ffnen zudem die Karlsruher Gesch=C3=A4fte von 13:00 bis 18:00 Uhr ih
 re T=C3=BCren.      Das gesamte Programm finden Sie unter        www.karlsr
 uhe-erleben.de/stadtfest        Foto: KME Karlsruhe Marketing und Event Gmb
 H | J=C3=BCrgen R=C3=B6sner     =20
URL:https://kalender.karlsruhe.de/db/termine/stadtleben/karlsruher_stadtfest2026n
CLASS:PUBLIC
DTSTART:20261010T110000
DTEND:20261011T210000
DTSTAMP:20260113T155444
CATEGORIES:Stadtleben
ATTACH:https://kalender.karlsruhe.de/db/termine/stadtleben/karlsruher_stadtfest2026n/file/icon_Karlsruher_Stadtfest_2025_Straßenkunst_LeFlamantRose_©_KME_JürgenRösner_1.jpg
END:VEVENT

END:VCALENDAR
