BEGIN:VCALENDAR
VERSION:2.0
CALSCALE:GREGORIAN
PRODID:https://kalender.karlsruhe.de/db/termine/
METHOD:PUBLISH
BEGIN:VEVENT
UID:579603
ORGANIZER;CN=Karlsruher Energie- und Klimaschutzagentur:MAILTO:info@kek-karlsruhe.de
LOCATION:Karlsruhe-Neureut
SUMMARY:KEK on tour in Neureut
DESCRIPTION;ENCODING=QUOTED-PRINTABLE:Vom 20. bis 28. April gibt es in Neureut vielf=C3=A4ltige kostenfreie Aktio
 nen f=C3=BCr Hauseigent=C3=BCmerinnen und -eigent=C3=BCmer sowie Mieterinne
 n und Mieter. Wir freuen uns auf Sie!=0D=0A=0D=0A  W=C3=A4hrend des Aktionszeitraum
 s haben die B=C3=BCrgerinnen und B=C3=BCrger in Neureut  die M=C3=B6glichke
 it\, sich direkt vor Ort =C3=BCber Themen rund um Energiesparen\,  Heizungsta
 usch\, Photovoltaik und energetische Geb=C3=A4udesanierung zu  informieren. 
        Aktionen zu Heizungstausch\, Photovoltaik und Geb=C3=A4udesanierung  
   =0D=0A    =0D=0A            Spazier=E2=80=98 mit =E2=80=93 Neureut zeigt seine Sa
 nierungsbeispiele          Sanierungsspaziergang in Neureut      Mittwoch\, 
 22.04. von 17 bis 18:30 Uhr      Sanierungsspaziergang in Neureut-Heide    
   Montag\, 27.04. von 17 bis 18:30 Uhr        Veranstaltungen im Mehrgenerat
 ionenhaus Karlsruhe im Brunhilde-Baur-Haus          Energiewende in Neureut
  =E2=80=93 Energiegespr=C3=A4ch beim Startpunkt Elterncaf=C3=A9      Dienst
 ag\, 21.04. von 10 bis 12 Uhr\,=C2=A0Brunhilde-Baur-Haus Neureut      Energie
 sparen leicht gemacht      Montag\, 27.04. von 14 bis 16 Uhr\,=C2=A0Mehrgener
 ationenhaus Karlsruhe im Brunhilde-Baur-Haus        Online-Vortr=C3=A4ge   
        Nachtspeicher=C3=B6fen sanieren =E2=80=93 Erfahrungsbericht und Tipp
 s eines Eigent=C3=BCmers      Montag\, 20.04. von 18 bis 19:30 Uhr      W=C3
 =A4rmepumpe im Bestand =E2=80=93 Vertrautes Heim mit neuester Heiztechnik  
     Wochentag\, 28.04. von 18 bis 19:30 Uhr    =0D=0A      Weitere Informationen
  und Anmeldung zu den Veranstaltungen gibt es auf unserer Website.      =0D=0A 
 =20
URL:https://kalender.karlsruhe.de/db/termine/stadtleben/kek_on_tour_in_neureut
CLASS:PUBLIC
DTSTART:20260420T000000
DTEND:20260428T000000
DTSTAMP:20260303T104755
CATEGORIES:Stadtleben
ATTACH:https://kalender.karlsruhe.de/db/termine/stadtleben/kek_on_tour_in_neureut/file/icon_2538_ph1_KEKonTour-Neureut_Website_1260x840px_01.jpg
END:VEVENT

END:VCALENDAR
