BEGIN:VCALENDAR
VERSION:2.0
CALSCALE:GREGORIAN
PRODID:https://kalender.karlsruhe.de/db/termine/
METHOD:PUBLISH
BEGIN:VEVENT
UID:577767
ORGANIZER;CN=Orga-Log GmbH & Co. KG:MAILTO:info@krusig.de
LOCATION:Kirchplatz St. Stephan
SUMMARY:Kinderland St. Stephan
DESCRIPTION;ENCODING=QUOTED-PRINTABLE:Das Kinderland St. Stephan l=C3=A4sst dieses Jahr wieder durch seine bezaub
 ernden M=C3=A4rchenlandschaften die Herzen der kleinen und gro=C3=9Fen Besu
 cher*innen h=C3=B6herschlagen.=0D=0A=0D=0A  Sorgf=C3=A4ltig angefertigte Wunschzett
 el k=C3=B6nnen die Kinder an den ersten drei Adventssonntagen um 14 Uhr h
 =C3=B6chstpers=C3=B6nlich beim Christkind abgeben oder in den Briefkasten i
 m Kinderland einwerfen. Lassen Sie sich von faszinierenden Kunsthandwerksvo
 rf=C3=BChrungen sowie einem abwechslungsreichen Kinderprogramm in den Bann 
 des wunderbaren Weihnachtszaubers ziehen.    =0D=0A =20
URL:https://kalender.karlsruhe.de/db/termine/stadtleben/kinderland_st_stephan
CLASS:PUBLIC
DTSTART:20261123T110000
DTEND:20261223T000000
DTSTAMP:20260108T155554
CATEGORIES:Stadtleben
ATTACH:https://kalender.karlsruhe.de/db/termine/stadtleben/kinderland_st_stephan/file/icon_2013-Fränkle-Kinderland_Eisenbahn.jpg
END:VEVENT

END:VCALENDAR
