BEGIN:VCALENDAR
VERSION:2.0
CALSCALE:GREGORIAN
PRODID:https://kalender.karlsruhe.de/db/termine/
METHOD:PUBLISH
BEGIN:VEVENT
UID:580633
ORGANIZER;CN=TRIANGEL Transfer | Kultur | Raum:MAILTO:hello@triangel.space
LOCATION:Kinemathek Karlsruhe
SUMMARY:KI:NO Sommer | Transcendence
DESCRIPTION;ENCODING=QUOTED-PRINTABLE:Im Rahmen des diesj=C3=A4hrigen ANYMOS KI:NO-Sommers laden wir am 7.5. um 1
 9 Uhr in die Kinemathek herzlich dazu ein\, gemeinsam =E2=80=9ETranscendence
 =E2=80=9C zu schauen. Der Film entwirft eine Zukunftsvision\, in der die M
 =C3=B6glichkeiten K=C3=BCnstlicher Intelligenz ebenso faszinierend wie beun
 ruhigend erscheinen.=0D=0A=0D=0A  Mit =E2=80=9ETranscendence=E2=80=9C begleiten wir
  einen f=C3=BChrenden KI-Forscher\, dessen Bewusstsein nach einem Anschlag i
 n ein Computersystem =C3=BCbertragen wird. Was zun=C3=A4chst wie ein wissen
 schaftlicher Durchbruch wirkt\, entwickelt sich zunehmend zu einer bedrohlic
 hen Dynamik\, in der die Grenzen zwischen Mensch\, Maschine und Macht immer w
 eiter verschwimmen.    Ein Science-Fiction-Film\, der mit einer spannenden G
 eschichte zentrale Fragen nach Identit=C3=A4t\, technologischem Fortschritt 
 und den Folgen entgrenzter KI aufwirft. Wie sich diese Zukunftsvision auf u
 nsere heutige Gesellschaft =C3=BCbertragen l=C3=A4sst\, wollen wir im Anschl
 uss durch einen Impuls aufgreifen und gemeinsam diskutieren.    Der Eintrit
 t in die Kinemathek ist=C2=A0kostenfrei=C2=A0und es gilt das Prinzip =E2=80
 =93 first come\, first serve.=C2=A0Einlass ist um 18:30 Uhr.    =0D=0A      Der 
 KI:NO Sommer wird im Rahmen des Projekts=C2=A0ANYMOS=C2=A0vom TRIANGEL Tran
 sfer | Kultur=C2=A0| Raum in Zusammenarbeit mit der Kinemathek Karlsruhe un
 d dem AFK veranstaltet. ANYMOS wird gef=C3=B6rdert vom Bundesministerium f
 =C3=BCr Bildung und Forschung und finanziert von der Europ=C3=A4ischen Unio
 n\, NextGenerationEU    . =20
URL:https://kalender.karlsruhe.de/db/termine/stadtleben/kino_sommer_transcendence
CLASS:PUBLIC
DTSTART:20260507T190000
DTEND:20260507T230000
DTSTAMP:20260402T092116
CATEGORIES:Stadtleben
ATTACH:https://kalender.karlsruhe.de/db/termine/stadtleben/kino_sommer_transcendence/file/icon_KINO SOMMER Transcendence.jpg
END:VEVENT

END:VCALENDAR
