BEGIN:VCALENDAR
VERSION:2.0
CALSCALE:GREGORIAN
PRODID:https://kalender.karlsruhe.de/db/termine/
METHOD:PUBLISH
BEGIN:VEVENT
UID:579334
ORGANIZER;CN=Naturschutzzentrum Karlsruhe-Rappenwört:MAILTO:info@nazka.de
LOCATION:Naturschutzzentrum Karlsruhe-Rappenwört
SUMMARY:Kit Klimamonster: Pop-Up-Bücher und -Karten
DESCRIPTION;ENCODING=QUOTED-PRINTABLE:F=C3=BCr Kinder von 6 =E2=80=93 12 Jahren=0D=0A=0D=0A  Foto:=C2=A0=C2=A9F. Poike   
  =C3=9Cberlege dir deine eigene Klimamonstergeschichte und bringe deine sup
 ertollen Planeten-Rettungsideen mit ein oder =C3=BCberrasche Deine Liebsten
  mit einer selbstgemachten Pop-Up Karte.=C2=A0Auch hier ist viel Platz f=C3
 =BCr Ideen\, wie wir unseren Planenten helfen k=C3=B6nnen. Male\, zeichne\, kl
 ebe\, gestalte\, am liebsten mit recycelten Materialien\, wie alten Plakaten\, 
 Pappen und bunten Papierresten!      Leitung    : Franziska Poike\, Animator
 in und Illustratorin  =0D=0A     Kostenfreie Veranstaltung        Anmeldung bis
  05.05.2026=C2=A0erforderlich.   =20
URL:https://kalender.karlsruhe.de/db/termine/stadtleben/kit_klimamonster_pop_up_bucher_und_karten
CLASS:PUBLIC
DTSTART:20260508T150000
DTEND:20260508T170000
DTSTAMP:20260223T081138
CATEGORIES:Stadtleben
ATTACH:https://kalender.karlsruhe.de/db/termine/stadtleben/kit_klimamonster_pop_up_bucher_und_karten/file/icon_WhatsApp Image 2025-08-08 at 10.50.51 (7).jpg
END:VEVENT

END:VCALENDAR
