BEGIN:VCALENDAR
VERSION:2.0
CALSCALE:GREGORIAN
PRODID:https://kalender.karlsruhe.de/db/termine/
METHOD:PUBLISH
BEGIN:VEVENT
UID:580545
ORGANIZER;CN=Naturschutzzentrum Karlsruhe-Rappenwört:MAILTO:info@nazka.de
LOCATION:Naturschutzzentrum Karlsruhe-Rappenwört
SUMMARY:Kleine Künstler im Wald
DESCRIPTION;ENCODING=QUOTED-PRINTABLE:Ferienprogramm f=C3=BCr Kinder von 6 - 10 Jahren=0D=0A=0D=0A  Wollt ihr Naturk=C3
 =BCnstler werden? Wir durchst=C3=B6bern den Herbstwald\, schauen nach Farben
  und Formen und sammeln alles\, was uns gef=C3=A4llt: zum Beispiel bunte Bl
 =C3=A4tter\, Zapfen\, Rinde\, Steine\, =C3=84ste oder Wurzeln. Dann machen wir 
 uns auf die Suche nach besonderen Orten\, an denen wir damit gemeinsam klein
 e oder gro=C3=9Fe Naturkunstwerke schaffen. Vielleicht entdecken wir die un
 heimlichen und sch=C3=B6nen Zauberwesen des Waldes und geben ihnen ein Gesi
 cht.    Bringt ein kleines Vesper und etwas zu Trinken mit.      Leitung:  
   Ulrike Roelle\, Naturp=C3=A4dagogin  =0D=0A     Kosten:    46 =E2=82=AC / Kind
  + 4 =E2=82=AC Materialkosten/Kind f=C3=BCr 2 Tage    Anmeldung mit=C2=A0Vo
 rab=C3=BCberweisung der Teilnahmegeb=C3=BChr=C2=A0bis 26.10.26=C2=A0erforde
 rlich. =20
URL:https://kalender.karlsruhe.de/db/termine/stadtleben/kleine_kunstler_im_wald
CLASS:PUBLIC
DTSTART:20261029T093000
DTEND:20261030T143000
DTSTAMP:20260330T083828
CATEGORIES:Stadtleben
ATTACH:https://kalender.karlsruhe.de/db/termine/stadtleben/kleine_kunstler_im_wald/file/icon_Logo Nazka 3,0 cm.jpg
END:VEVENT

END:VCALENDAR
