BEGIN:VCALENDAR
VERSION:2.0
CALSCALE:GREGORIAN
PRODID:https://kalender.karlsruhe.de/db/termine/
METHOD:PUBLISH
BEGIN:VEVENT
UID:576221
ORGANIZER;CN=HWK Gärtnerei Grötzingen:MAILTO:gaertnerei@hwk.com
LOCATION:HWK Gärtnerei Grötzingen
SUMMARY:Kräuter kennenlernen
DESCRIPTION;ENCODING=QUOTED-PRINTABLE:In der HWK G=C3=A4rtnerei=0D=0A=0D=0A  In diesem Workshop lernen Sie\,      wie man 
 Kr=C3=A4uter zum richtigen Zeitpunkt erntet und haltbar macht und      wie 
 man einen guten Tee zubereitet. Diesen verkosten wir anschlie=C3=9Fend auch
  direkt gemeinsam.      Kosten:=C2=A039=E2=82=AC    Anmeldung:      Eine=C2
 =A0verbindliche Anmeldung=C2=A0erfolgt per=C2=A0E-Mail an=C2=A0gaertnerei@h
 wk.com.      Mit Ihrer Anmeldung erkl=C3=A4ren Sie sich mit unseren Teilnah
 mebedingungen einverstanden. Wir danken f=C3=BCr Ihr Verst=C3=A4ndnis und f
 reuen uns auf einen inspirierenden\, kreativen Workshop mit Ihnen!   =20
URL:https://kalender.karlsruhe.de/db/termine/stadtleben/krauter_kennenlernen
CLASS:PUBLIC
DTSTART:20260613T110000
DTEND:20260613T140000
DTSTAMP:20251118T100723
CATEGORIES:Stadtleben
ATTACH:https://kalender.karlsruhe.de/db/termine/stadtleben/krauter_kennenlernen/file/icon_Workshop_Kräuter_Bildquelle_CanvaAI.jpg
END:VEVENT

END:VCALENDAR
