BEGIN:VCALENDAR
VERSION:2.0
CALSCALE:GREGORIAN
PRODID:https://kalender.karlsruhe.de/db/termine/
METHOD:PUBLISH
BEGIN:VEVENT
UID:580547
ORGANIZER;CN=Naturschutzzentrum Karlsruhe-Rappenwört:MAILTO:info@nazka.de
LOCATION:Naturschutzzentrum Karlsruhe-Rappenwört
SUMMARY:Kreativ mit Holz - Basteln, schnitzen und Brennmalerei
DESCRIPTION;ENCODING=QUOTED-PRINTABLE:Ferienprogramm f=C3=BCr Kinder ab 8 Jahren=0D=0A=0D=0A  Wir werden mit Holz und Nat
 urmaterialien=C2=A0kreativ arbeiten. Mit Schnitzwerkzeug wird das Holz bear
 beitet=C2=A0und mit Brennmalstiften k=C3=B6nnen Bilder oder Schriften in da
 s Holz eingebrannt . Den Ideen sind keine Grenzen gesetzt. Ob Schmuck\, Deko
 \, Instrumente oder andere handwerkliche Projekte\, wir haben viele M=C3=B6gl
 ichkeiten und probieren uns aus.    Wer bei "Kreativ mit Holz 1" dabei war\,
  ist eingeladen\, begonnene Kunstwerke weiter zu bearbeiten.      Leitung:  
   Emilia Bauer\, Umwelt- und Wildnisp=C3=A4dagogin  =0D=0A     Kosten:    16 =E2
 =82=AC / Kind + 5 =E2=82=AC Materialkosten      Teilnehmerzahl:    8 Kinder
 \, bei Interesse k=C3=B6nnen auch Eltern teilnehmen      Anmeldung mit=C2=A0
 Vorab=C3=BCberweisung der Teilnahmegeb=C3=BChr=C2=A0bis 06.11.26=C2=A0erfor
 derlich.   =20
URL:https://kalender.karlsruhe.de/db/termine/stadtleben/kreativ_mit_holz_basteln_schnitzen_und_brennmalerei-1
CLASS:PUBLIC
DTSTART:20261113T150000
DTEND:20261113T173000
DTSTAMP:20260330T083806
CATEGORIES:Stadtleben
ATTACH:https://kalender.karlsruhe.de/db/termine/stadtleben/kreativ_mit_holz_basteln_schnitzen_und_brennmalerei-1/file/icon_Logo Nazka 3,0 cm.jpg
END:VEVENT

END:VCALENDAR
