BEGIN:VCALENDAR
VERSION:2.0
CALSCALE:GREGORIAN
PRODID:https://kalender.karlsruhe.de/db/termine/
METHOD:PUBLISH
BEGIN:VEVENT
UID:580235
ORGANIZER;CN=Naturschutzzentrum Karlsruhe-Rappenwört:MAILTO:info@nazka.de
LOCATION:Naturschutzzentrum Karlsruhe-Rappenwört
SUMMARY:Kreativ mit Holz - Glutbrennen und Schnitzen
DESCRIPTION;ENCODING=QUOTED-PRINTABLE:F=C3=BCr Erwachsene und Kinder ab 8 Jahren=0D=0A=0D=0A  Gemeinsam entz=C3=BCnden wi
 r ein Feuer mit Feuerstahl und Natur-Zunder. Mithilfe der Glut und auch dur
 ch Schnitzen und Schleifen kannst Du Deinen eigenen L=C3=B6ffel oder Deine 
 Schale aus Holz herstellen. Auch ganz eigene\, neue Ideen d=C3=BCrfen auspro
 biert werden. Wir werden einen handwerklichen und kreativen Nachmittag zusa
 mmen verbringen.  =0D=0A  =0D=0A     Leitung:    Emilia Bauer\, Umwelt- und Wildnisp
 =C3=A4dagogin  =0D=0A     Kosten:    19 =E2=82=AC / Kind+ 5 =E2=82=AC Materialk
 osten      Teilnehmeranzahl    : 8 Kinder\, bei Interesse k=C3=B6nnen auch E
 ltern teilnehmen.      Anmeldung mit=C2=A0Vorab=C3=BCberweisung der Teilnah
 megeb=C3=BChr=C2=A0bis 09.10.26=C2=A0erforderlich.   =20
URL:https://kalender.karlsruhe.de/db/termine/stadtleben/kreativ_mit_holz_glutbrennen_und_schnitzen-1
CLASS:PUBLIC
DTSTART:20261016T150000
DTEND:20261016T180000
DTSTAMP:20260330T083936
CATEGORIES:Stadtleben
ATTACH:https://kalender.karlsruhe.de/db/termine/stadtleben/kreativ_mit_holz_glutbrennen_und_schnitzen-1/file/icon_Logo Nazka 3,0 cm.jpg
END:VEVENT

END:VCALENDAR
