BEGIN:VCALENDAR
VERSION:2.0
CALSCALE:GREGORIAN
PRODID:https://kalender.karlsruhe.de/db/termine/
METHOD:PUBLISH
BEGIN:VEVENT
UID:580676
ORGANIZER;CN=Stadtamt Durlach & OrgelFabrik Kultur in Durlach e V.:MAILTO:
LOCATION:Schlossgarten Durlach
SUMMARY:Kultursommer Durlach
DESCRIPTION;ENCODING=QUOTED-PRINTABLE:Konzert - Dickes Blech=0D=0A=0D=0A  DICKES BLECH ist eine Rock-Pop-Band\, bestehend 
 aus 8 Musiker*innen mit Handicap. Sie spielen ausschlie=C3=9Flich eigene Li
 eder. Dabei handeln ihre Texte vom Alltag als Arbeitende\, als Fu=C3=9Fballf
 ans\, als frisch Verliebte oder von nervigen Anrufen der Eltern. Von der B
 =C3=BChne strahlen die Musiker*innen immer gute Laune aus und zaubern dem P
 ublikum ein L=C3=A4cheln ins Gesicht.    Unterst=C3=BCtzung bekommen sie an
  diesem Abend von KAosPlanet\, ihren Proberaum-Nachbarn. Eigene\, handgemacht
 e\, erdige Rockmusik mit anspruchsvollen deutschen Texten und einer geh=C3
 =B6rigen Portion Saxophon sind deren Markenzeichen. Ab und zu streuen sie e
 in paar Covers ein. =20
URL:https://kalender.karlsruhe.de/db/termine/stadtleben/kultursommer_durlach-1
CLASS:PUBLIC
DTSTART:20260801T190000
DTEND:20260801T214500
DTSTAMP:20260409T112624
CATEGORIES:Stadtleben
ATTACH:https://kalender.karlsruhe.de/db/termine/stadtleben/kultursommer_durlach-1/file/icon_DICKES BLECH_Pressefoto 2026.jpg
END:VEVENT

END:VCALENDAR
