BEGIN:VCALENDAR
VERSION:2.0
CALSCALE:GREGORIAN
PRODID:https://kalender.karlsruhe.de/db/termine/
METHOD:PUBLISH
BEGIN:VEVENT
UID:580679
ORGANIZER;CN=Stadtamt Durlach:MAILTO:kultur@durlach.karlsruhe.de
LOCATION:Schlossgarten Durlach
SUMMARY:Kultursommer Durlach
DESCRIPTION;ENCODING=QUOTED-PRINTABLE:Konzert - Out of Blues=0D=0A=0D=0A  Out of the Blue(s) hat sich dem klassischen Blu
 es-Rock verschrieben und interpretiert Klassiker von Peter Green\, Gary Moor
 e\, John Mayall\, Otis Rush u. a. in der Tradition des klassischen Rock-Trios
 . Immer mit dem Ziel\, erdigen\, authentischen\, aber zugleich eigenst=C3=A4nd
 igen Blues-Rock abzuliefern.    Einfach ehrliche\, handgemachte und bluesig-
 kernige Gitarrenmusik. =20
URL:https://kalender.karlsruhe.de/db/termine/stadtleben/kultursommer_durlach-2
CLASS:PUBLIC
DTSTART:20260806T200000
DTEND:20260806T214500
DTSTAMP:20260409T112648
CATEGORIES:Stadtleben
ATTACH:https://kalender.karlsruhe.de/db/termine/stadtleben/kultursommer_durlach-2/file/icon_OOTB_02_600x736 (1) (1).jpg
END:VEVENT

END:VCALENDAR
