BEGIN:VCALENDAR
VERSION:2.0
CALSCALE:GREGORIAN
PRODID:https://kalender.karlsruhe.de/db/termine/
METHOD:PUBLISH
BEGIN:VEVENT
UID:580671
ORGANIZER;CN=Stadtamt Durlach & OrgelFabrik Kultur in Durlach e V.:MAILTO:
LOCATION:Schlossgarten Durlach
SUMMARY:Kultursommer Durlach
DESCRIPTION;ENCODING=QUOTED-PRINTABLE:Konzert - retrock=0D=0A=0D=0A  retrock offeriert gepflegte Rockmusik\, vorgetragen v
 on vier Musikern mit Standardinstrumentierung (Schlagzeug\, Bass\, Keyboard\, 
 Gitarre). Drei markante Stimmen interpretieren Songs namhafter K=C3=BCnstle
 r. Das Ergebnis sind tanzbare\, rockige\, gerne auch mal ruhige Songs mit Cha
 rakter und teils eigenwilligen Arrangements. Das Repertoire reicht von Blue
 s =C3=BCber Country und Rock=C2=A0bis hin zu souligem Liedgut =E2=80=93 Cla
 pton\, Hendrix\, SRV\, Toto\, Steely Dan\, Chicago\, Beatles\, Steppenwolf\, John M
 ayer\, Popa Chubby und viele mehr lassen gr=C3=BC=C3=9Fen. =20
URL:https://kalender.karlsruhe.de/db/termine/stadtleben/kultursommer_durlach
CLASS:PUBLIC
DTSTART:20260724T190000
DTEND:20260724T214500
DTSTAMP:20260409T112525
CATEGORIES:Stadtleben
ATTACH:https://kalender.karlsruhe.de/db/termine/stadtleben/kultursommer_durlach/file/icon_Verabschiedung.jpg
END:VEVENT

END:VCALENDAR
