BEGIN:VCALENDAR
VERSION:2.0
CALSCALE:GREGORIAN
PRODID:https://kalender.karlsruhe.de/db/termine/
METHOD:PUBLISH
BEGIN:VEVENT
UID:577703
ORGANIZER;CN=Marktamt der Stadt Karlsruhe:MAILTO:ma@karlsruhe.de
LOCATION:Stephanplatz
SUMMARY:Kunsthandwerkermarkt
DESCRIPTION;ENCODING=QUOTED-PRINTABLE:auf dem Stephanplatz =E2=80=93 beliebt und stets gut besucht ist der zweima
 l j=C3=A4hrlich statt=C2=AD=C2=ADfin=C2=AD=C2=ADdende Kunst=C2=AD=C2=ADhan
 =C2=ADd=C2=ADwer=C2=ADker=C2=AD=C2=ADmarkt auf dem Stephan=C2=AD=C2=ADplatz
  hinter der Postga=C2=ADle=C2=ADrie.=0D=0A=0D=0A  =C3=9Cber 90 regionale und =C3=BC
 berre=C2=AD=C2=ADgio=C2=ADnale  Aussteller pr=C3=A4sen=C2=ADtie=C2=ADren da
 bei ihre herge=C2=AD=C2=ADstell=C2=ADten Kunstwerke.  Ob ausge=C2=ADfal=C2
 =ADlene Mode und Schmuck=C2=ADst=C3=BCcke\, Skulpturen aus  verschie=C2=AD
 =C2=ADde=C2=AD=C2=ADnen Materia=C2=AD=C2=ADlien\, Acces=C2=AD=C2=ADsoi=C2=AD
 res aus Leder\, Wolle und  Filz\, H=C3=BCte\, Keramik\, Besen und B=C3=BCrsten\,
  Malerei und Vieles mehr - auf  dem Kunst=C2=AD=C2=ADhan=C2=ADd=C2=ADwer=C2
 =ADker=C2=AD=C2=ADmarkt werden Freunde kreativer Ideen  garantiert f=C3=BCn
 dig. =20
URL:https://kalender.karlsruhe.de/db/termine/stadtleben/kunsthandwerkermarkt-1
CLASS:PUBLIC
DTSTART:20260926T100000
DTEND:20260926T180000
DTSTAMP:20260107T083542
CATEGORIES:Stadtleben
ATTACH:https://kalender.karlsruhe.de/db/termine/stadtleben/kunsthandwerkermarkt-1/file/icon_2026 - Kunsthandwerkermarkt_Flyer A6_September.jpg
END:VEVENT

END:VCALENDAR
