BEGIN:VCALENDAR
VERSION:2.0
CALSCALE:GREGORIAN
PRODID:https://kalender.karlsruhe.de/db/termine/
METHOD:PUBLISH
BEGIN:VEVENT
UID:578130
ORGANIZER;CN=HWK Gärtnerei Grötzingen:MAILTO:gaertnerei@hwk.com
LOCATION:HWK Gärtnerei Grötzingen
SUMMARY:Kürbis schnitzen für Groß und Klein
DESCRIPTION;ENCODING=QUOTED-PRINTABLE:Vorbereitung auf Halloween=0D=0A=0D=0A  Lass deiner Kreativit=C3=A4t freien Lauf un
 d verwandle einen K=C3=BCrbis in ein gruseliges Monster\, eine lustige Fratz
 e oder in ein gro=C3=9Fartiges Kunstwerk. F=C3=BCr=C2=A0 Kinder ab 5 Jahren
 . Kosten: 10 =E2=82=AC pro K=C3=BCrbis\, inklusive aller Materialien. Bitte 
 beachten: Die Aufsichtspflicht liegt bei den Eltern!    Anmeldung:      Ein
 e=C2=A0verbindliche Anmeldung=C2=A0erfolgt per E-Mail an=C2=A0gaertnerei@hw
 k.com.           =20
URL:https://kalender.karlsruhe.de/db/termine/stadtleben/kurbis_schnitzen_fur_gro_und_klein-1
CLASS:PUBLIC
DTSTART:20261024T100000
DTEND:20261024T140000
DTSTAMP:20260119T095346
CATEGORIES:Stadtleben
ATTACH:https://kalender.karlsruhe.de/db/termine/stadtleben/kurbis_schnitzen_fur_gro_und_klein-1/file/icon_pixabay_pumpkin-1005002_1920.jpg
END:VEVENT

END:VCALENDAR
