BEGIN:VCALENDAR
VERSION:2.0
CALSCALE:GREGORIAN
PRODID:https://kalender.karlsruhe.de/db/termine/
METHOD:PUBLISH
BEGIN:VEVENT
UID:579932
ORGANIZER;CN=Hilfswerk des Lions Club Karlsruhe-Fächer e.V.:MAILTO:kinderfest@leo-karlsruhe.de
LOCATION:Nottingham Anlage
SUMMARY:Leo-Lions-Kinderfest
DESCRIPTION;ENCODING=QUOTED-PRINTABLE:Kinderfest am Samstag 9. Mai von 11-16 Uhr in der Nottingham-Anlage.=0D=0A=0D=0A  D
 as Kinderfest findet am Samstag 9. Mai findet in der Nottingham-Anlage stat
 t. Der Eintritt ist kostenlos. Jede*r darf mitmachen.    Es warten viele sp
 annende Aktionen auf euch: zwei Freivorstellungen im Marotte-Theater und Za
 ubershows\, H=C3=BCpfburg\, Hundestaffel und viele weitere Mitmachaktionen. W
 ir freuen uns auf euch! =20
URL:https://kalender.karlsruhe.de/db/termine/stadtleben/leo_lions_kinderfest-1
CLASS:PUBLIC
DTSTART:20260509T110000
DTEND:20260509T160000
DTSTAMP:20260312T082224
CATEGORIES:Stadtleben
ATTACH:https://kalender.karlsruhe.de/db/termine/stadtleben/leo_lions_kinderfest-1/file/icon_Kinderfest-2026-Flyer-Werbung.jpg
END:VEVENT

END:VCALENDAR
