BEGIN:VCALENDAR
VERSION:2.0
CALSCALE:GREGORIAN
PRODID:https://kalender.karlsruhe.de/db/termine/
METHOD:PUBLISH
BEGIN:VEVENT
UID:580127
ORGANIZER;CN=Naturschutzzentrum Karlsruhe-Rappenwört:MAILTO:info@nazka.de
LOCATION:Naturschutzzentrum Karlsruhe-Rappenwört
SUMMARY:Licht aus – Wir brauchen´s dunkel! Lichtverschmutzung und der Einfluss auf Insekten, Fledermaus & Co
DESCRIPTION;ENCODING=QUOTED-PRINTABLE:F=C3=BCr Kinder von 8 =E2=80=93 12 Jahren=0D=0A=0D=0A  Ganz nach dem Motto: Nur was
  man kennt\, kann man auch sch=C3=BCtzen\, dreht sich in dieser kostenfreien 
 Veranstaltung alles um das wichtige Thema Lichtverschmutzung und die geheim
 nisvolle Welt der nachtaktiven Tiere. Die Veranstaltung richtet sich an Kin
 der im Alter von 8 bis 12 Jahren und bietet eine einzigartige Gelegenheit\, 
 die Natur bei Nacht zu erkunden und dabei viel =C3=BCber den Einfluss von k
 =C3=BCnstlichem Licht auf unsere Umwelt zu lernen. Ablauf der Veranstaltung
 : Zu Beginn der Veranstaltung erfahren die Kinder\, welche nachtaktiven Tier
 e in ihrer Umgebung leben und wie sie sich an die Dunkelheit angepasst habe
 n. Durch Experimente und spannende Forscherfragen werden die Kinder daf=C3
 =BCr sensibilisiert\, wie Menschen k=C3=BCnstliches Licht nutzen und warum z
 u viel Licht sch=C3=A4dlich ist. Au=C3=9Ferdem wird spielerisch vermittelt 
 was jeder Einzelne tun kann\, um Lichtverschmutzung zu reduzieren. Ausger=C3
 =BCstet mit Taschenlampen machen sich die Kinder unter Anleitung einer erfa
 hrenen P=C3=A4dagogin auf eine aufregende Entdeckertour. An verschiedenen S
 tationen werden mit speziellen Ger=C3=A4ten wie Fledermausdetektor oder Ins
 ektenlichtfang nachtaktive Tiere beobachtet und genauer untersucht. Anschli
 e=C3=9Fend haben die Kinder die M=C3=B6glichkeit\, das Erlebte kreativ umzus
 etzen und lernen nebenbei viel Neues =C3=BCber das Leben von Flederm=C3=A4u
 sen. Das Abschlussspiel erm=C3=B6glicht den Kindern selbst in die Rolle der
  Tiere zu schl=C3=BCpfen und die Auswirkungen von Kunstlicht hautnah zu sp
 =C3=BCren  =0D=0A  =0D=0A  Bei schlechtem Wetter wird die Veranstaltung auf 11.09.2
 026 verschoben.  =0D=0A      Leitung    : Dominique Erb\, Regierungspr=C3=A4sidi
 um Karlsruhe\, Nachtmobil  =0D=0A     Kosten:    kostenfrei      Anmeldung bis 2
 8.08.26=C2=A0erforderlich.   =20
URL:https://kalender.karlsruhe.de/db/termine/stadtleben/licht_aus_wir_brauchen_s_dunkel_lichtverschmutzung
CLASS:PUBLIC
DTSTART:20260904T200000
DTEND:20260904T223000
DTSTAMP:20260318T093927
CATEGORIES:Stadtleben
ATTACH:https://kalender.karlsruhe.de/db/termine/stadtleben/licht_aus_wir_brauchen_s_dunkel_lichtverschmutzung/file/icon_Logo Nazka 3,0 cm.jpg
END:VEVENT

END:VCALENDAR
