BEGIN:VCALENDAR
VERSION:2.0
CALSCALE:GREGORIAN
PRODID:https://kalender.karlsruhe.de/db/termine/
METHOD:PUBLISH
BEGIN:VEVENT
UID:580230
ORGANIZER;CN=Naturschutzzentrum Karlsruhe-Rappenwört:MAILTO:info@nazka.de
LOCATION:Post Südstadt. e.V., Ettlinger Allee 9, Karlsruhe-Rüppurr, gegenüber Haltestelle „Dammer-stock” (Linien S1/S11)
SUMMARY:Märchenhafter Oberwald
DESCRIPTION;ENCODING=QUOTED-PRINTABLE:Ein besonderes Naturerlebnis f=C3=BCr Kinder ab 5 Jahren und Erwachsene=0D=0A=0D=0A
   Der Oberwald mit seinen nassen bis trockenen Lebensr=C3=A4umen birgt manc
 he Sch=C3=A4tze. Diese wollen wir auf einem 1\,5 km langen Spaziergang entde
 cken und dazu M=C3=A4rchen lauschen\, die Br=C3=BCcken schlagen zwischen der
  Phantasie und der Wirklichkeit. Spiel und Spa=C3=9F kommen dabei nicht zur
  kurz.      Leitung:    Annette Volz\, M=C3=A4rchenerz=C3=A4hlerin + Biodive
 rsit=C3=A4tsbotschafterin NABU  =0D=0A  =0D=0A     Kosten:    2 =E2=82=AC / Kind\, 3
  =E2=82=AC / Erwachsener    =0D=0A     Anmeldung:    maerchen-reise@web.de=C2
 =A0oder Tel. 0721-886653 =20
URL:https://kalender.karlsruhe.de/db/termine/stadtleben/marchenhafter_oberwald
CLASS:PUBLIC
DTSTART:20260913T140000
DTEND:20260913T160000
DTSTAMP:20260324T102234
CATEGORIES:Stadtleben
ATTACH:https://kalender.karlsruhe.de/db/termine/stadtleben/marchenhafter_oberwald/file/icon_Logo Nazka 3,0 cm.jpg
END:VEVENT

END:VCALENDAR
