BEGIN:VCALENDAR
VERSION:2.0
CALSCALE:GREGORIAN
PRODID:https://kalender.karlsruhe.de/db/termine/
METHOD:PUBLISH
BEGIN:VEVENT
UID:579332
ORGANIZER;CN=Naturschutzzentrum Karlsruhe-Rappenwört:MAILTO:info@nazka.de
LOCATION:Naturschutzzentrum Karlsruhe-Rappenwört
SUMMARY:Märchenzauber im Auenwald
DESCRIPTION;ENCODING=QUOTED-PRINTABLE:F=C3=BCr Familien mit Kindern ab 5 Jahren=0D=0A=0D=0A  Foto:=C2=A0=C2=A9A. Wolf    
 In den Wipfeln der B=C3=A4ume sollen die M=C3=A4rchen wohnen. Aber auch hin
 ter dem Busch und unter dem Stein und tief unten im Wasser sollen sie sein.
   =0D=0A  Doch gibt es noch viel mehr zu entdecken. Wer wohnt wohl neben den M
 =C3=A4rchen in B=C3=A4umen\, B=C3=BCschen und Hecken?  =0D=0A  Spiel und Spa=C3
 =9F sind auch mit dabei. So lasst uns zusammen in den Auenwald eintreten\,
 =C2=A0dort Spannendes entdecken und den M=C3=A4rchen f=C3=BCr Gro=C3=9F und
  Klein lauschen.  =0D=0A  =0D=0A  Bitte wald- und wettergerecht anziehen.  =0D=0A  =0D=0A  
    Leitung:    Annette Volz\, M=C3=A4rchenerz=C3=A4hlerin  =0D=0A     Kosten:   
  12 =E2=82=AC/Kind in Begleitung eines Erwachsenen\, 6 =E2=82=AC jede weiter
 e Person  =0D=0A      Anmeldung mit=C2=A0Vorab=C3=BCberweisung der Teilnahmegeb
 =C3=BChr=C2=A0bis 23.04.2026=C2=A0erforderlich!     =20
URL:https://kalender.karlsruhe.de/db/termine/stadtleben/marchenzauber_im_auenwald
CLASS:PUBLIC
DTSTART:20260426T140000
DTEND:20260426T153000
DTSTAMP:20260223T081027
CATEGORIES:Stadtleben
ATTACH:https://kalender.karlsruhe.de/db/termine/stadtleben/marchenzauber_im_auenwald/file/icon_Frühlings-Auenwald 500x600 (c) A. Wolf.jpg
END:VEVENT

END:VCALENDAR
